BEGIN:VCALENDAR
VERSION:2.0
PRODID:-//Untzilla App - ECPv6.0.4//NONSGML v1.0//EN
CALSCALE:GREGORIAN
METHOD:PUBLISH
X-ORIGINAL-URL:https://untzilla.txoko.app
X-WR-CALDESC:Eventos para Untzilla App
REFRESH-INTERVAL;VALUE=DURATION:PT1H
X-Robots-Tag:noindex
X-PUBLISHED-TTL:PT1H
BEGIN:VTIMEZONE
TZID:UTC
BEGIN:STANDARD
TZOFFSETFROM:+0000
TZOFFSETTO:+0000
TZNAME:UTC
DTSTART:20230101T000000
END:STANDARD
END:VTIMEZONE
BEGIN:VEVENT
DTSTART;TZID=UTC:20230709T193000
DTEND;TZID=UTC:20230710T010000
DTSTAMP:20260419T163940
CREATED:20230709T171446Z
LAST-MODIFIED:20230709T171446Z
UID:1727-1688931000-1688950800@untzilla.txoko.app
SUMMARY:Jesus Fdez
DESCRIPTION:Afaria 12 lagun
URL:https://untzilla.txoko.app/event/jesus-fdez-9/
END:VEVENT
BEGIN:VEVENT
DTSTART;TZID=UTC:20230714T080000
DTEND;TZID=UTC:20230714T170000
DTSTAMP:20260419T163940
CREATED:20230704T113938Z
LAST-MODIFIED:20230704T113938Z
UID:1717-1689321600-1689354000@untzilla.txoko.app
SUMMARY:Uztailak 14 8 lagun bazkaltzeko
DESCRIPTION:
URL:https://untzilla.txoko.app/event/uztailak-14-8-lagun-bazkaltzeko/
ORGANIZER;CN="Cengotitabengoa":MAILTO:cengo531@gmail.com
END:VEVENT
BEGIN:VEVENT
DTSTART;TZID=UTC:20230715T080000
DTEND;TZID=UTC:20230715T210000
DTSTAMP:20260419T163940
CREATED:20230621T173713Z
LAST-MODIFIED:20230621T173713Z
UID:1698-1689408000-1689454800@untzilla.txoko.app
SUMMARY:Manda bazkaria 8 lagun
DESCRIPTION:
URL:https://untzilla.txoko.app/event/manda-bazkaria-8-lagun-2/
END:VEVENT
BEGIN:VEVENT
DTSTART;TZID=UTC:20230716T080000
DTEND;TZID=UTC:20230716T170000
DTSTAMP:20260419T163940
CREATED:20230619T153411Z
LAST-MODIFIED:20230619T153411Z
UID:1688-1689494400-1689526800@untzilla.txoko.app
SUMMARY:Gastelu- 8 lagun- 16-7
DESCRIPTION:Bazkaria 8 lagun. 16 de julio
URL:https://untzilla.txoko.app/event/gastelu-8-lagun-16-7/
END:VEVENT
BEGIN:VEVENT
DTSTART;TZID=UTC:20230719T130000
DTEND;TZID=UTC:20230719T193000
DTSTAMP:20260419T163940
CREATED:20230707T103545Z
LAST-MODIFIED:20230707T103545Z
UID:1725-1689771600-1689795000@untzilla.txoko.app
SUMMARY:Bazkaria Antxon Uztailak 19 Julio (10 lagun)
DESCRIPTION:
URL:https://untzilla.txoko.app/event/bazkaria-antxon-uztailak-19-julio-10-lagun/
END:VEVENT
BEGIN:VEVENT
DTSTART;TZID=UTC:20230720T080000
DTEND;TZID=UTC:20230720T210000
DTSTAMP:20260419T163940
CREATED:20230707T084523Z
LAST-MODIFIED:20230707T084523Z
UID:1723-1689840000-1689886800@untzilla.txoko.app
SUMMARY:Manda bazkaria 12 lagun
DESCRIPTION:
URL:https://untzilla.txoko.app/event/manda-bazkaria-12-lagun-3/
END:VEVENT
BEGIN:VEVENT
DTSTART;TZID=UTC:20230727T080000
DTEND;TZID=UTC:20230727T170000
DTSTAMP:20260419T163940
CREATED:20230727T135322Z
LAST-MODIFIED:20230727T135322Z
UID:1745-1690444800-1690477200@untzilla.txoko.app
SUMMARY:
DESCRIPTION:BAZKARIA ROMÁN \nUztailak 29 Julio \n8 lagun
URL:https://untzilla.txoko.app/event/1745/
END:VEVENT
END:VCALENDAR