BEGIN:VCALENDAR
VERSION:2.0
PRODID:-//Untzilla App - ECPv6.0.4//NONSGML v1.0//EN
CALSCALE:GREGORIAN
METHOD:PUBLISH
X-WR-CALNAME:Untzilla App
X-ORIGINAL-URL:https://untzilla.txoko.app
X-WR-CALDESC:Eventos para Untzilla App
REFRESH-INTERVAL;VALUE=DURATION:PT1H
X-Robots-Tag:noindex
X-PUBLISHED-TTL:PT1H
BEGIN:VTIMEZONE
TZID:UTC
BEGIN:STANDARD
TZOFFSETFROM:+0000
TZOFFSETTO:+0000
TZNAME:UTC
DTSTART:20230101T000000
END:STANDARD
END:VTIMEZONE
BEGIN:VEVENT
DTSTART;TZID=UTC:20230202T190000
DTEND;TZID=UTC:20230202T233000
DTSTAMP:20260420T002750
CREATED:20230131T104042Z
LAST-MODIFIED:20230131T104042Z
UID:1563-1675364400-1675380600@untzilla.txoko.app
SUMMARY:Pello Baños afaria - 13 lagun
DESCRIPTION:Pello Baños \nafaria \n13 lagun
URL:https://untzilla.txoko.app/event/pello-banos-afaria-13-lagun/
END:VEVENT
BEGIN:VEVENT
DTSTART;TZID=UTC:20230218T080000
DTEND;TZID=UTC:20230218T170000
DTSTAMP:20260420T002750
CREATED:20230201T120129Z
LAST-MODIFIED:20230201T120129Z
UID:1567-1676707200-1676739600@untzilla.txoko.app
SUMMARY:Otsailak 18 aitzol
DESCRIPTION:30 lagun
URL:https://untzilla.txoko.app/event/otsailak-18-aitzol/
END:VEVENT
BEGIN:VEVENT
DTSTART;TZID=UTC:20230223T183000
DTEND;TZID=UTC:20230223T233000
DTSTAMP:20260420T002750
CREATED:20230222T103625Z
LAST-MODIFIED:20230222T103625Z
UID:1583-1677177000-1677195000@untzilla.txoko.app
SUMMARY:Pello Baños afaria 13 pertsona
DESCRIPTION:Pello Baños afaria 13 pertsona
URL:https://untzilla.txoko.app/event/pello-banos-afaria-13-pertsona/
END:VEVENT
BEGIN:VEVENT
DTSTART;TZID=UTC:20230224T080000
DTEND;TZID=UTC:20230224T200000
DTSTAMP:20260420T002750
CREATED:20230127T115302Z
LAST-MODIFIED:20230127T115302Z
UID:1558-1677225600-1677268800@untzilla.txoko.app
SUMMARY:Manda bazkaria 20 pertsona
DESCRIPTION:
URL:https://untzilla.txoko.app/event/manda-bazkaria-20-pertsona/
END:VEVENT
BEGIN:VEVENT
DTSTART;TZID=UTC:20230225T080000
DTEND;TZID=UTC:20230225T170000
DTSTAMP:20260420T002750
CREATED:20221226T164123Z
LAST-MODIFIED:20221226T164123Z
UID:1524-1677312000-1677344400@untzilla.txoko.app
SUMMARY:Aitor bazkaria 12 lagun
DESCRIPTION:Asadorea
URL:https://untzilla.txoko.app/event/aitor-bazkaria-12-lagun-5/
END:VEVENT
END:VCALENDAR