BEGIN:VCALENDAR
VERSION:2.0
PRODID:-//Untzilla App - ECPv6.0.4//NONSGML v1.0//EN
CALSCALE:GREGORIAN
METHOD:PUBLISH
X-ORIGINAL-URL:https://untzilla.txoko.app
X-WR-CALDESC:Eventos para Untzilla App
REFRESH-INTERVAL;VALUE=DURATION:PT1H
X-Robots-Tag:noindex
X-PUBLISHED-TTL:PT1H
BEGIN:VTIMEZONE
TZID:UTC
BEGIN:STANDARD
TZOFFSETFROM:+0000
TZOFFSETTO:+0000
TZNAME:UTC
DTSTART:20230101T000000
END:STANDARD
END:VTIMEZONE
BEGIN:VEVENT
DTSTART;TZID=UTC:20230101T080000
DTEND;TZID=UTC:20230101T080000
DTSTAMP:20260420T020119
CREATED:20221126T105500Z
LAST-MODIFIED:20221221T104126Z
UID:1476-1672560000-1672560000@untzilla.txoko.app
SUMMARY:Bazkaria 30 lagun Zarra
DESCRIPTION:
URL:https://untzilla.txoko.app/event/bazkaria-15-lagun-zarra/
END:VEVENT
BEGIN:VEVENT
DTSTART;TZID=UTC:20230105T200000
DTEND;TZID=UTC:20230106T033000
DTSTAMP:20260420T020119
CREATED:20230105T164617Z
LAST-MODIFIED:20230105T164617Z
UID:1542-1672948800-1672975800@untzilla.txoko.app
SUMMARY:Jesus Fdez Afaria 10 lagun
DESCRIPTION:
URL:https://untzilla.txoko.app/event/jesus-fdez-afaria-10-lagun/
END:VEVENT
BEGIN:VEVENT
DTSTART;VALUE=DATE:20230106
DTEND;VALUE=DATE:20230107
DTSTAMP:20260420T020119
CREATED:20221126T143848Z
LAST-MODIFIED:20221126T143848Z
UID:1480-1672963200-1673049599@untzilla.txoko.app
SUMMARY:Odile bazkaria 25 lagun
DESCRIPTION:
URL:https://untzilla.txoko.app/event/odile-bazkaria-25-lagun/
END:VEVENT
BEGIN:VEVENT
DTSTART;TZID=UTC:20230107T130000
DTEND;TZID=UTC:20230107T180000
DTSTAMP:20260420T020119
CREATED:20230106T113903Z
LAST-MODIFIED:20230106T113903Z
UID:1545-1673096400-1673114400@untzilla.txoko.app
SUMMARY:Jesús Fernández Bazkaria 10 lagun
DESCRIPTION:
URL:https://untzilla.txoko.app/event/jesus-fernandez-bazkaria-10-lagun/
END:VEVENT
BEGIN:VEVENT
DTSTART;TZID=UTC:20230113T200000
DTEND;TZID=UTC:20230113T233000
DTSTAMP:20260420T020119
CREATED:20230111T211022Z
LAST-MODIFIED:20230111T211022Z
UID:1550-1673640000-1673652600@untzilla.txoko.app
SUMMARY:ibon lasuen afaixe
DESCRIPTION:Afaixe 8 pertsona
URL:https://untzilla.txoko.app/event/ibon-lasuen-afaixe-2/
END:VEVENT
BEGIN:VEVENT
DTSTART;TZID=UTC:20230114T080000
DTEND;TZID=UTC:20230114T233000
DTSTAMP:20260420T020119
CREATED:20221127T133914Z
LAST-MODIFIED:20221127T133914Z
UID:1485-1673683200-1673739000@untzilla.txoko.app
SUMMARY:Smithi Bazkaria eta afaria 25 pertsona
DESCRIPTION:
URL:https://untzilla.txoko.app/event/smithi-bazkaria-eta-afaria-25-pertsona/
END:VEVENT
BEGIN:VEVENT
DTSTART;TZID=UTC:20230121T080000
DTEND;TZID=UTC:20230121T170000
DTSTAMP:20260420T020119
CREATED:20221115T201357Z
LAST-MODIFIED:20221115T201357Z
UID:1447-1674288000-1674320400@untzilla.txoko.app
SUMMARY:Bazkaria 30 lagun (Zarra)
DESCRIPTION:
URL:https://untzilla.txoko.app/event/bazkaria-30-lagun-zarra/
END:VEVENT
BEGIN:VEVENT
DTSTART;TZID=UTC:20230122T080000
DTEND;TZID=UTC:20230122T170000
DTSTAMP:20260420T020119
CREATED:20221229T104540Z
LAST-MODIFIED:20230120T103156Z
UID:1535-1674374400-1674406800@untzilla.txoko.app
SUMMARY:bazkaixe 10 pertsona
DESCRIPTION:ibon lasuen \nDomekan urtarrillak 22\, 10 pertsona bazkaitteko.
URL:https://untzilla.txoko.app/event/bazkaixe-10-pertsona/
END:VEVENT
BEGIN:VEVENT
DTSTART;TZID=UTC:20230125T210000
DTEND;TZID=UTC:20230125T233000
DTSTAMP:20260420T020119
CREATED:20230125T172729Z
LAST-MODIFIED:20230125T172729Z
UID:1554-1674680400-1674689400@untzilla.txoko.app
SUMMARY:Afaria abenduak 25 15 pertsona
DESCRIPTION:
URL:https://untzilla.txoko.app/event/afaria-abenduak-25-15-pertsona/
END:VEVENT
BEGIN:VEVENT
DTSTART;TZID=UTC:20230128T080000
DTEND;TZID=UTC:20230128T170000
DTSTAMP:20260420T020119
CREATED:20221226T141610Z
LAST-MODIFIED:20221226T141610Z
UID:1520-1674892800-1674925200@untzilla.txoko.app
SUMMARY:Aitor bazkaria 20 lagun
DESCRIPTION:
URL:https://untzilla.txoko.app/event/aitor-bazkaria-20-lagun/
END:VEVENT
END:VCALENDAR