BEGIN:VCALENDAR
VERSION:2.0
PRODID:-//Untzilla App - ECPv6.0.4//NONSGML v1.0//EN
CALSCALE:GREGORIAN
METHOD:PUBLISH
X-ORIGINAL-URL:https://untzilla.txoko.app
X-WR-CALDESC:Eventos para Untzilla App
REFRESH-INTERVAL;VALUE=DURATION:PT1H
X-Robots-Tag:noindex
X-PUBLISHED-TTL:PT1H
BEGIN:VTIMEZONE
TZID:UTC
BEGIN:STANDARD
TZOFFSETFROM:+0000
TZOFFSETTO:+0000
TZNAME:UTC
DTSTART:20220101T000000
END:STANDARD
END:VTIMEZONE
BEGIN:VEVENT
DTSTART;TZID=UTC:20221105T080000
DTEND;TZID=UTC:20221105T170000
DTSTAMP:20260420T052332
CREATED:20220928T172752Z
LAST-MODIFIED:20220928T172752Z
UID:1360-1667635200-1667667600@untzilla.txoko.app
SUMMARY:Bazkaria aitzol
DESCRIPTION:Aitzol bazkaria 25 pertsona
URL:https://untzilla.txoko.app/event/bazkaria-aitzol-2/
END:VEVENT
BEGIN:VEVENT
DTSTART;TZID=UTC:20221111T080000
DTEND;TZID=UTC:20221111T170000
DTSTAMP:20260420T052332
CREATED:20221020T230444Z
LAST-MODIFIED:20221020T230444Z
UID:1385-1668153600-1668186000@untzilla.txoko.app
SUMMARY:Aitor bazkaria 12 lagun
DESCRIPTION:Laba behar dugu
URL:https://untzilla.txoko.app/event/aitor-bazkaria-12-lagun-4/
END:VEVENT
BEGIN:VEVENT
DTSTART;TZID=UTC:20221112T120000
DTEND;TZID=UTC:20221112T223000
DTSTAMP:20260420T052332
CREATED:20221001T205352Z
LAST-MODIFIED:20221001T205352Z
UID:1364-1668254400-1668292200@untzilla.txoko.app
SUMMARY:Bazkaria 15 lagun
DESCRIPTION:Bazkaria \npello baños \n15 lagun
URL:https://untzilla.txoko.app/event/bazkaria-15-lagun-2/
END:VEVENT
BEGIN:VEVENT
DTSTART;TZID=UTC:20221118T120000
DTEND;TZID=UTC:20221118T190000
DTSTAMP:20260420T052332
CREATED:20221009T171825Z
LAST-MODIFIED:20221009T171825Z
UID:1370-1668772800-1668798000@untzilla.txoko.app
SUMMARY:Cengotitabengoa 6 bazkaltzera
DESCRIPTION:
URL:https://untzilla.txoko.app/event/cengotitabengoa-6-bazkaltzera/
LOCATION:untzilla
ORGANIZER;CN="Cengotitabengoa":MAILTO:cengo531@gmail.com
END:VEVENT
BEGIN:VEVENT
DTSTART;TZID=UTC:20221119T080000
DTEND;TZID=UTC:20221119T170000
DTSTAMP:20260420T052332
CREATED:20221116T164640Z
LAST-MODIFIED:20221116T164640Z
UID:1455-1668844800-1668877200@untzilla.txoko.app
SUMMARY:Smithi bazkaria 10 lagun
DESCRIPTION:
URL:https://untzilla.txoko.app/event/smithi-bazkaria-10-lagun/
END:VEVENT
BEGIN:VEVENT
DTSTART;TZID=UTC:20221126T080000
DTEND;TZID=UTC:20221126T220000
DTSTAMP:20260420T052332
CREATED:20221104T092043Z
LAST-MODIFIED:20221104T092043Z
UID:1411-1669449600-1669500000@untzilla.txoko.app
SUMMARY:Paul Baños Bazkaria
DESCRIPTION:20 Pertsona\, egun osoko bazkaria
URL:https://untzilla.txoko.app/event/paul-banos-bazkaria-2/
END:VEVENT
BEGIN:VEVENT
DTSTART;TZID=UTC:20221126T110000
DTEND;TZID=UTC:20221126T203000
DTSTAMP:20260420T052332
CREATED:20221114T211233Z
LAST-MODIFIED:20221114T211300Z
UID:1441-1669460400-1669494600@untzilla.txoko.app
SUMMARY:Marifran\, azaroan 26\, larunbata\, 10 lagun bazkaltzera
DESCRIPTION:Marifran\, 10 lagun bazkaltzera
URL:https://untzilla.txoko.app/event/marifran-azaroan-26-larunbata-10-lagun-bazkaltzera/
END:VEVENT
BEGIN:VEVENT
DTSTART;TZID=UTC:20221130T080000
DTEND;TZID=UTC:20221130T170000
DTSTAMP:20260420T052332
CREATED:20221117T145208Z
LAST-MODIFIED:20221117T145208Z
UID:1457-1669795200-1669827600@untzilla.txoko.app
SUMMARY:Paul Baños Onaindia
DESCRIPTION:Comida 30 noviembre\, 15 personas.
URL:https://untzilla.txoko.app/event/paul-banos-onaindia/
END:VEVENT
END:VCALENDAR