BEGIN:VCALENDAR
VERSION:2.0
PRODID:-//Untzilla App - ECPv6.0.4//NONSGML v1.0//EN
CALSCALE:GREGORIAN
METHOD:PUBLISH
X-WR-CALNAME:Untzilla App
X-ORIGINAL-URL:https://untzilla.txoko.app
X-WR-CALDESC:Eventos para Untzilla App
REFRESH-INTERVAL;VALUE=DURATION:PT1H
X-Robots-Tag:noindex
X-PUBLISHED-TTL:PT1H
BEGIN:VTIMEZONE
TZID:UTC
BEGIN:STANDARD
TZOFFSETFROM:+0000
TZOFFSETTO:+0000
TZNAME:UTC
DTSTART:20220101T000000
END:STANDARD
END:VTIMEZONE
BEGIN:VEVENT
DTSTART;TZID=UTC:20220507T120000
DTEND;TZID=UTC:20220507T200000
DTSTAMP:20260420T151737
CREATED:20220409T122352Z
LAST-MODIFIED:20220409T122352Z
UID:1078-1651924800-1651953600@untzilla.txoko.app
SUMMARY:Juanma Baños bazkaria
DESCRIPTION:Juanma Baños bazkaria \n8 pertsona \nerretegia bai
URL:https://untzilla.txoko.app/event/juanma-banos-bazkaria/
END:VEVENT
BEGIN:VEVENT
DTSTART;TZID=UTC:20220509T110000
DTEND;TZID=UTC:20220509T210000
DTSTAMP:20260420T151737
CREATED:20220429T221543Z
LAST-MODIFIED:20220429T221543Z
UID:1111-1652094000-1652130000@untzilla.txoko.app
SUMMARY:Marifran - bazkaria - 7 lagun
DESCRIPTION:Marifran – bazkaria – 7 lagun
URL:https://untzilla.txoko.app/event/marifran-bazkaria-7-lagun/
END:VEVENT
BEGIN:VEVENT
DTSTART;TZID=UTC:20220514T080000
DTEND;TZID=UTC:20220514T170000
DTSTAMP:20260420T151737
CREATED:20220313T110426Z
LAST-MODIFIED:20220428T120806Z
UID:1002-1652515200-1652547600@untzilla.txoko.app
SUMMARY:Zarra\, Bazkaria
DESCRIPTION:15lagun elkartuko gara. \n  \n 
URL:https://untzilla.txoko.app/event/zarra-bazkaria/
END:VEVENT
BEGIN:VEVENT
DTSTART;TZID=UTC:20220514T080000
DTEND;TZID=UTC:20220514T170000
DTSTAMP:20260420T151737
CREATED:20220316T143158Z
LAST-MODIFIED:20220316T143158Z
UID:1009-1652515200-1652547600@untzilla.txoko.app
SUMMARY:Aitzol etxebarria bazkaria
DESCRIPTION:15 lagun
URL:https://untzilla.txoko.app/event/aitzol-etxebarria-bazkaria/
END:VEVENT
BEGIN:VEVENT
DTSTART;VALUE=DATE:20220515
DTEND;VALUE=DATE:20220516
DTSTAMP:20260420T151737
CREATED:20220513T055854Z
LAST-MODIFIED:20220513T055854Z
UID:1144-1652572800-1652659199@untzilla.txoko.app
SUMMARY:Jesus Fdz Domeka\, hilak 15 bazkaria 8 lagun
DESCRIPTION:
URL:https://untzilla.txoko.app/event/jesus-fdz-domeka-hilak-15-bazkaria-8-lagun/
END:VEVENT
BEGIN:VEVENT
DTSTART;TZID=UTC:20220520T200000
DTEND;TZID=UTC:20220521T040000
DTSTAMP:20260420T151737
CREATED:20220520T104200Z
LAST-MODIFIED:20220520T104200Z
UID:1156-1653076800-1653105600@untzilla.txoko.app
SUMMARY:Jesus afaria
DESCRIPTION:15 lagun
URL:https://untzilla.txoko.app/event/jesus-afaria/
END:VEVENT
BEGIN:VEVENT
DTSTART;TZID=UTC:20220521T080000
DTEND;TZID=UTC:20220521T170000
DTSTAMP:20260420T151737
CREATED:20220326T184513Z
LAST-MODIFIED:20220326T184513Z
UID:1034-1653120000-1653152400@untzilla.txoko.app
SUMMARY:Aitor bazkaria 14 lagun
DESCRIPTION:Asadorea
URL:https://untzilla.txoko.app/event/aitor-bazkaria-14-lagun-2/
END:VEVENT
BEGIN:VEVENT
DTSTART;TZID=UTC:20220525T080000
DTEND;TZID=UTC:20220525T170000
DTSTAMP:20260420T151737
CREATED:20220523T130457Z
LAST-MODIFIED:20220523T130457Z
UID:1180-1653465600-1653498000@untzilla.txoko.app
SUMMARY:Odile afaria 12 lagun
DESCRIPTION:Odile cena 12 personas
URL:https://untzilla.txoko.app/event/odile-afaria-12-lagun/
END:VEVENT
BEGIN:VEVENT
DTSTART;TZID=UTC:20220525T080000
DTEND;TZID=UTC:20220525T200000
DTSTAMP:20260420T151737
CREATED:20220502T154450Z
LAST-MODIFIED:20220502T154450Z
UID:1123-1653465600-1653508800@untzilla.txoko.app
SUMMARY:Manda bazkaria 6 lagun
DESCRIPTION:
URL:https://untzilla.txoko.app/event/manda-bazkaria-6-lagun/
END:VEVENT
BEGIN:VEVENT
DTSTART;TZID=UTC:20220527T080000
DTEND;TZID=UTC:20220527T170000
DTSTAMP:20260420T151737
CREATED:20220525T144459Z
LAST-MODIFIED:20220525T144508Z
UID:1188-1653638400-1653670800@untzilla.txoko.app
SUMMARY:ibon lasuen bazkaixe 15 pertsona
DESCRIPTION:maiatzak 27 bazkaria 15 pertsona
URL:https://untzilla.txoko.app/event/ibon-lasuen-bazkaixe-15-pertsona/
END:VEVENT
BEGIN:VEVENT
DTSTART;TZID=UTC:20220527T170000
DTEND;TZID=UTC:20220527T233000
DTSTAMP:20260420T151737
CREATED:20220523T134108Z
LAST-MODIFIED:20220523T134349Z
UID:1182-1653670800-1653694200@untzilla.txoko.app
SUMMARY:Smithi Afaria  7 pertsona
DESCRIPTION:Afarixe \n7 pertson \n  \n  \n 
URL:https://untzilla.txoko.app/event/smithi-2/
END:VEVENT
END:VCALENDAR