BEGIN:VCALENDAR
VERSION:2.0
PRODID:-//Untzilla App - ECPv6.0.4//NONSGML v1.0//EN
CALSCALE:GREGORIAN
METHOD:PUBLISH
X-WR-CALNAME:Untzilla App
X-ORIGINAL-URL:https://untzilla.txoko.app
X-WR-CALDESC:Eventos para Untzilla App
REFRESH-INTERVAL;VALUE=DURATION:PT1H
X-Robots-Tag:noindex
X-PUBLISHED-TTL:PT1H
BEGIN:VTIMEZONE
TZID:UTC
BEGIN:STANDARD
TZOFFSETFROM:+0000
TZOFFSETTO:+0000
TZNAME:UTC
DTSTART:20210101T000000
END:STANDARD
END:VTIMEZONE
BEGIN:VEVENT
DTSTART;TZID=UTC:20210902T080000
DTEND;TZID=UTC:20210902T170000
DTSTAMP:20260421T034134
CREATED:20210831T164602Z
LAST-MODIFIED:20210831T164651Z
UID:691-1630569600-1630602000@untzilla.txoko.app
SUMMARY:Afaria 14 pertsona aitzol
DESCRIPTION:
URL:https://untzilla.txoko.app/event/afaria-14-pertsona/
END:VEVENT
BEGIN:VEVENT
DTSTART;TZID=UTC:20210903T200000
DTEND;TZID=UTC:20210904T153000
DTSTAMP:20260421T034134
CREATED:20210903T172425Z
LAST-MODIFIED:20210903T172425Z
UID:694-1630699200-1630769400@untzilla.txoko.app
SUMMARY:Jesus Fdez
DESCRIPTION:Afaixe 15 lagun
URL:https://untzilla.txoko.app/event/jesus-fdez-7/
END:VEVENT
BEGIN:VEVENT
DTSTART;VALUE=DATE:20210904
DTEND;VALUE=DATE:20210905
DTSTAMP:20260421T034134
CREATED:20210721T193758Z
LAST-MODIFIED:20210721T193758Z
UID:621-1630713600-1630799999@untzilla.txoko.app
SUMMARY:Paul Baños
DESCRIPTION:20 pertsona \nBazkaria eta afaria
URL:https://untzilla.txoko.app/event/paul-banos-4/
END:VEVENT
BEGIN:VEVENT
DTSTART;TZID=UTC:20210915T080000
DTEND;TZID=UTC:20210915T170000
DTSTAMP:20260421T034134
CREATED:20210911T122332Z
LAST-MODIFIED:20210911T122332Z
UID:706-1631692800-1631725200@untzilla.txoko.app
SUMMARY:Txirri comida 8 personas
DESCRIPTION:
URL:https://untzilla.txoko.app/event/txirri-comida-8-personas-2/
END:VEVENT
BEGIN:VEVENT
DTSTART;TZID=UTC:20210923T140000
DTEND;TZID=UTC:20210923T170000
DTSTAMP:20260421T034134
CREATED:20210922T212824Z
LAST-MODIFIED:20210922T212824Z
UID:744-1632405600-1632416400@untzilla.txoko.app
SUMMARY:Bazkaria
DESCRIPTION:Jesus Fernandez 7 lagun
URL:https://untzilla.txoko.app/event/bazkaria/
END:VEVENT
BEGIN:VEVENT
DTSTART;TZID=UTC:20210923T193000
DTEND;TZID=UTC:20210923T233000
DTSTAMP:20260421T034134
CREATED:20210919T180204Z
LAST-MODIFIED:20210919T180204Z
UID:720-1632425400-1632439800@untzilla.txoko.app
SUMMARY:Pello afaria - 12 lagun
DESCRIPTION:Pello afaria \n12 lagun
URL:https://untzilla.txoko.app/event/pello-afaria-12-lagun/
END:VEVENT
BEGIN:VEVENT
DTSTART;VALUE=DATE:20210924
DTEND;VALUE=DATE:20210925
DTSTAMP:20260421T034134
CREATED:20210908T080345Z
LAST-MODIFIED:20210908T194505Z
UID:701-1632441600-1632527999@untzilla.txoko.app
SUMMARY:Marifran
DESCRIPTION:Afaria 20 lagun
URL:https://untzilla.txoko.app/event/marifran/
END:VEVENT
BEGIN:VEVENT
DTSTART;TZID=UTC:20210925T080000
DTEND;TZID=UTC:20210925T170000
DTSTAMP:20260421T034134
CREATED:20210830T132644Z
LAST-MODIFIED:20210830T132644Z
UID:685-1632556800-1632589200@untzilla.txoko.app
SUMMARY:Aitor bazkaria 18 lagun
DESCRIPTION:Asadorea
URL:https://untzilla.txoko.app/event/aitor-bazkaria-18-lagun/
END:VEVENT
END:VCALENDAR