BEGIN:VCALENDAR
VERSION:2.0
PRODID:-//Untzilla App - ECPv6.0.4//NONSGML v1.0//EN
CALSCALE:GREGORIAN
METHOD:PUBLISH
X-WR-CALNAME:Untzilla App
X-ORIGINAL-URL:https://untzilla.txoko.app
X-WR-CALDESC:Eventos para Untzilla App
REFRESH-INTERVAL;VALUE=DURATION:PT1H
X-Robots-Tag:noindex
X-PUBLISHED-TTL:PT1H
BEGIN:VTIMEZONE
TZID:UTC
BEGIN:STANDARD
TZOFFSETFROM:+0000
TZOFFSETTO:+0000
TZNAME:UTC
DTSTART:20200101T000000
END:STANDARD
END:VTIMEZONE
BEGIN:VEVENT
DTSTART;TZID=UTC:20200902T130000
DTEND;TZID=UTC:20200903T020000
DTSTAMP:20260421T230018
CREATED:20200901T165532Z
LAST-MODIFIED:20200901T165532Z
UID:384-1599051600-1599098400@untzilla.txoko.app
SUMMARY:Jesus fdz
DESCRIPTION:Bazkaria 12 lagun. Erretegia
URL:https://untzilla.txoko.app/event/jesus-fdz-3/
END:VEVENT
BEGIN:VEVENT
DTSTART;TZID=UTC:20200906T120000
DTEND;TZID=UTC:20200906T183000
DTSTAMP:20260421T230018
CREATED:20200906T002814Z
LAST-MODIFIED:20200906T002814Z
UID:387-1599393600-1599417000@untzilla.txoko.app
SUMMARY:Pello bazkaria
DESCRIPTION:Pello bazkaria – 8
URL:https://untzilla.txoko.app/event/pello-bazkaria/
END:VEVENT
BEGIN:VEVENT
DTSTART;TZID=UTC:20200911T190000
DTEND;TZID=UTC:20200911T233000
DTSTAMP:20260421T230018
CREATED:20200907T105258Z
LAST-MODIFIED:20200907T105258Z
UID:404-1599850800-1599867000@untzilla.txoko.app
SUMMARY:Pello baños afari
DESCRIPTION:Ostirala afari-6 pertsona\nErretegixe erabiliko dogu
URL:https://untzilla.txoko.app/event/pello-banos-afari/
END:VEVENT
BEGIN:VEVENT
DTSTART;TZID=UTC:20200912T080000
DTEND;TZID=UTC:20200912T170000
DTSTAMP:20260421T230018
CREATED:20200706T184114Z
LAST-MODIFIED:20200807T214748Z
UID:266-1599897600-1599930000@untzilla.txoko.app
SUMMARY:Bazkaria Aitor
DESCRIPTION:bazkaria 12 lagun
URL:https://untzilla.txoko.app/event/bazkaria-aitor/
END:VEVENT
BEGIN:VEVENT
DTSTART;TZID=UTC:20200917T193000
DTEND;TZID=UTC:20200917T233000
DTSTAMP:20260421T230018
CREATED:20200912T141128Z
LAST-MODIFIED:20200912T141128Z
UID:407-1600371000-1600385400@untzilla.txoko.app
SUMMARY:Pello afaria
DESCRIPTION:Pello afaria – 10
URL:https://untzilla.txoko.app/event/pello-afaria-3/
END:VEVENT
BEGIN:VEVENT
DTSTART;TZID=UTC:20200919T080000
DTEND;TZID=UTC:20200919T200000
DTSTAMP:20260421T230018
CREATED:20200918T074541Z
LAST-MODIFIED:20200918T074541Z
UID:420-1600502400-1600545600@untzilla.txoko.app
SUMMARY:Bazkaria ibon lasuen
DESCRIPTION:Bazkaria kanpoko mahaian. Ez dogu sukaldatuko.
URL:https://untzilla.txoko.app/event/bazkaria-ibon-lasuen/
END:VEVENT
BEGIN:VEVENT
DTSTART;TZID=UTC:20200919T093000
DTEND;TZID=UTC:20200919T170000
DTSTAMP:20260421T230018
CREATED:20200914T183753Z
LAST-MODIFIED:20200914T183753Z
UID:411-1600507800-1600534800@untzilla.txoko.app
SUMMARY:Aitzol afaria 6 pertsona
DESCRIPTION:
URL:https://untzilla.txoko.app/event/aitzol-afaria-6-pertsona/
END:VEVENT
BEGIN:VEVENT
DTSTART;TZID=UTC:20200926T080000
DTEND;TZID=UTC:20200926T170000
DTSTAMP:20260421T230018
CREATED:20200807T214422Z
LAST-MODIFIED:20200907T101956Z
UID:344-1601107200-1601139600@untzilla.txoko.app
SUMMARY:aitor bazkaria
DESCRIPTION:bazkaria 14 lagun
URL:https://untzilla.txoko.app/event/aitor-bazkaria-2/
END:VEVENT
BEGIN:VEVENT
DTSTART;TZID=UTC:20200926T080000
DTEND;TZID=UTC:20200926T170000
DTSTAMP:20260421T230018
CREATED:20200919T083803Z
LAST-MODIFIED:20200919T083803Z
UID:422-1601107200-1601139600@untzilla.txoko.app
SUMMARY:Txarly bazkaria
DESCRIPTION:Bazkaria 12 lagun
URL:https://untzilla.txoko.app/event/txarly-bazkaria/
END:VEVENT
BEGIN:VEVENT
DTSTART;TZID=UTC:20200926T173000
DTEND;TZID=UTC:20200927T010000
DTSTAMP:20260421T230018
CREATED:20200926T150803Z
LAST-MODIFIED:20200926T150803Z
UID:443-1601141400-1601168400@untzilla.txoko.app
SUMMARY:Jesús Fdez Afaria
DESCRIPTION:Afaria 10 pertsona
URL:https://untzilla.txoko.app/event/jesus-fdez-afaria/
END:VEVENT
BEGIN:VEVENT
DTSTART;TZID=UTC:20200928T080000
DTEND;TZID=UTC:20200928T170000
DTSTAMP:20260421T230018
CREATED:20200928T184845Z
LAST-MODIFIED:20200928T184845Z
UID:451-1601280000-1601312400@untzilla.txoko.app
SUMMARY:Aitzol afaria 8 pertsona
DESCRIPTION:
URL:https://untzilla.txoko.app/event/aitzol-afaria-8-pertsona/
END:VEVENT
BEGIN:VEVENT
DTSTART;TZID=UTC:20200930T190000
DTEND;TZID=UTC:20200930T233000
DTSTAMP:20260421T230018
CREATED:20200928T185219Z
LAST-MODIFIED:20200928T185219Z
UID:454-1601492400-1601508600@untzilla.txoko.app
SUMMARY:Aitzol afaria
DESCRIPTION:Aitzol afaria-8 pertsona\nErretegirik ez
URL:https://untzilla.txoko.app/event/aitzol-afaria/
END:VEVENT
END:VCALENDAR