BEGIN:VCALENDAR
VERSION:2.0
PRODID:-//Untzilla App - ECPv6.0.4//NONSGML v1.0//EN
CALSCALE:GREGORIAN
METHOD:PUBLISH
X-ORIGINAL-URL:https://untzilla.txoko.app
X-WR-CALDESC:Eventos para Untzilla App
REFRESH-INTERVAL;VALUE=DURATION:PT1H
X-Robots-Tag:noindex
X-PUBLISHED-TTL:PT1H
BEGIN:VTIMEZONE
TZID:UTC
BEGIN:STANDARD
TZOFFSETFROM:+0000
TZOFFSETTO:+0000
TZNAME:UTC
DTSTART:20200101T000000
END:STANDARD
END:VTIMEZONE
BEGIN:VEVENT
DTSTART;TZID=UTC:20200801T080000
DTEND;TZID=UTC:20200801T170000
DTSTAMP:20260422T002925
CREATED:20200729T170853Z
LAST-MODIFIED:20200729T170853Z
UID:322-1596268800-1596301200@untzilla.txoko.app
SUMMARY:Tomas Arizmendiarrieta
DESCRIPTION:Bazkaria \n8 lagun
URL:https://untzilla.txoko.app/event/tomas-arizmendiarrieta/
END:VEVENT
BEGIN:VEVENT
DTSTART;TZID=UTC:20200802T100000
DTEND;TZID=UTC:20200802T210000
DTSTAMP:20260422T002925
CREATED:20200731T182053Z
LAST-MODIFIED:20200731T182053Z
UID:335-1596362400-1596402000@untzilla.txoko.app
SUMMARY:Odile (bazkaria)
DESCRIPTION:Bazkaria\n12 pertsona\nErretegia
URL:https://untzilla.txoko.app/event/odile-bazkaria-2/
END:VEVENT
BEGIN:VEVENT
DTSTART;TZID=UTC:20200804T120000
DTEND;TZID=UTC:20200804T120000
DTSTAMP:20260422T002925
CREATED:20200731T171229Z
LAST-MODIFIED:20200731T171229Z
UID:332-1596542400-1596542400@untzilla.txoko.app
SUMMARY:Odile (bazkaria)
DESCRIPTION:Bazkari\n8 pertsona\nLabea
URL:https://untzilla.txoko.app/event/odile-bazkaria/
END:VEVENT
BEGIN:VEVENT
DTSTART;TZID=UTC:20200821T080000
DTEND;TZID=UTC:20200821T190000
DTSTAMP:20260422T002925
CREATED:20200813T123745Z
LAST-MODIFIED:20200813T123745Z
UID:354-1597996800-1598036400@untzilla.txoko.app
SUMMARY:Karkun bazkarua. 7 pertsona
DESCRIPTION:
URL:https://untzilla.txoko.app/event/karkun-bazkarua-7-pertsona/
END:VEVENT
BEGIN:VEVENT
DTSTART;VALUE=DATE:20200822
DTEND;VALUE=DATE:20200823
DTSTAMP:20260422T002925
CREATED:20200821T180411Z
LAST-MODIFIED:20200821T180411Z
UID:363-1598054400-1598140799@untzilla.txoko.app
SUMMARY:Paul Baños
DESCRIPTION:Abustuak 22  \nBazkaria \n10 lagun
URL:https://untzilla.txoko.app/event/paul-banos/
END:VEVENT
BEGIN:VEVENT
DTSTART;TZID=UTC:20200823T190000
DTEND;TZID=UTC:20200823T233000
DTSTAMP:20260422T002925
CREATED:20200821T170526Z
LAST-MODIFIED:20200821T170526Z
UID:359-1598209200-1598225400@untzilla.txoko.app
SUMMARY:Pello baños afaria
DESCRIPTION:Afaria-10 lagun
URL:https://untzilla.txoko.app/event/pello-banos-afaria/
END:VEVENT
BEGIN:VEVENT
DTSTART;TZID=UTC:20200828T200000
DTEND;TZID=UTC:20200829T030000
DTSTAMP:20260422T002925
CREATED:20200828T171618Z
LAST-MODIFIED:20200828T171618Z
UID:382-1598644800-1598670000@untzilla.txoko.app
SUMMARY:Jesus fdz
DESCRIPTION:Afaria 10 lagun
URL:https://untzilla.txoko.app/event/jesus-fdz-2/
END:VEVENT
BEGIN:VEVENT
DTSTART;TZID=UTC:20200829T080000
DTEND;TZID=UTC:20200829T170000
DTSTAMP:20260422T002925
CREATED:20200825T200419Z
LAST-MODIFIED:20200825T201005Z
UID:376-1598688000-1598720400@untzilla.txoko.app
SUMMARY:Bazkaria 9 lagun ibai
DESCRIPTION:
URL:https://untzilla.txoko.app/event/bazkaria-9-lagun/
END:VEVENT
BEGIN:VEVENT
DTSTART;TZID=UTC:20200830T123000
DTEND;TZID=UTC:20200830T180000
DTSTAMP:20260422T002925
CREATED:20200828T124022Z
LAST-MODIFIED:20200828T124022Z
UID:380-1598790600-1598810400@untzilla.txoko.app
SUMMARY:Jesus fdz
DESCRIPTION:Bezkaixe 10 lagun
URL:https://untzilla.txoko.app/event/jesus-fdz/
END:VEVENT
END:VCALENDAR