BEGIN:VCALENDAR
VERSION:2.0
PRODID:-//Untzilla App - ECPv6.0.4//NONSGML v1.0//EN
CALSCALE:GREGORIAN
METHOD:PUBLISH
X-ORIGINAL-URL:https://untzilla.txoko.app
X-WR-CALDESC:Eventos para Untzilla App
REFRESH-INTERVAL;VALUE=DURATION:PT1H
X-Robots-Tag:noindex
X-PUBLISHED-TTL:PT1H
BEGIN:VTIMEZONE
TZID:UTC
BEGIN:STANDARD
TZOFFSETFROM:+0000
TZOFFSETTO:+0000
TZNAME:UTC
DTSTART:20200101T000000
END:STANDARD
END:VTIMEZONE
BEGIN:VEVENT
DTSTART;TZID=UTC:20200702T200000
DTEND;TZID=UTC:20200702T223000
DTSTAMP:20260422T015449
CREATED:20200702T120241Z
LAST-MODIFIED:20200702T120241Z
UID:249-1593720000-1593729000@untzilla.txoko.app
SUMMARY:Txirri  afaria 4
DESCRIPTION:
URL:https://untzilla.txoko.app/event/txirri-afaria-4/
END:VEVENT
BEGIN:VEVENT
DTSTART;TZID=UTC:20200703T080000
DTEND;TZID=UTC:20200703T170000
DTSTAMP:20260422T015449
CREATED:20200626T154507Z
LAST-MODIFIED:20200626T154507Z
UID:240-1593763200-1593795600@untzilla.txoko.app
SUMMARY:Karkun bazkaria 12 pertsona
DESCRIPTION:
URL:https://untzilla.txoko.app/event/karkun-bazkaria-12-pertsona/
END:VEVENT
BEGIN:VEVENT
DTSTART;TZID=UTC:20200704T080000
DTEND;TZID=UTC:20200704T170000
DTSTAMP:20260422T015449
CREATED:20200703T111055Z
LAST-MODIFIED:20200703T111055Z
UID:254-1593849600-1593882000@untzilla.txoko.app
SUMMARY:Bazkaria aitzol
DESCRIPTION:10 lagun
URL:https://untzilla.txoko.app/event/bazkaria-aitzol/
END:VEVENT
BEGIN:VEVENT
DTSTART;TZID=UTC:20200704T080000
DTEND;TZID=UTC:20200704T170000
DTSTAMP:20260422T015449
CREATED:20200703T113041Z
LAST-MODIFIED:20200703T113041Z
UID:256-1593849600-1593882000@untzilla.txoko.app
SUMMARY:Txirri\, baskaría 4
DESCRIPTION:
URL:https://untzilla.txoko.app/event/txirri-baskaria-4/
END:VEVENT
BEGIN:VEVENT
DTSTART;TZID=UTC:20200706T090000
DTEND;TZID=UTC:20200707T020000
DTSTAMP:20260422T015449
CREATED:20200706T183208Z
LAST-MODIFIED:20200706T183208Z
UID:262-1594026000-1594087200@untzilla.txoko.app
SUMMARY:Jesus fdez
DESCRIPTION:4 lagun
URL:https://untzilla.txoko.app/event/jesus-fdez-3/
END:VEVENT
BEGIN:VEVENT
DTSTART;TZID=UTC:20200709T080000
DTEND;TZID=UTC:20200709T170000
DTSTAMP:20260422T015449
CREATED:20200705T182540Z
LAST-MODIFIED:20200705T182627Z
UID:258-1594281600-1594314000@untzilla.txoko.app
SUMMARY:Afarimerienda
DESCRIPTION:Endika\n8lagun
URL:https://untzilla.txoko.app/event/afarimerienda/
END:VEVENT
BEGIN:VEVENT
DTSTART;TZID=UTC:20200709T200000
DTEND;TZID=UTC:20200709T233000
DTSTAMP:20260422T015449
CREATED:20200709T072301Z
LAST-MODIFIED:20200709T072301Z
UID:278-1594324800-1594337400@untzilla.txoko.app
SUMMARY:Pello afaria
DESCRIPTION:Afaria-10 lagun\nErretegirik ez
URL:https://untzilla.txoko.app/event/pello-afaria-2/
END:VEVENT
BEGIN:VEVENT
DTSTART;TZID=UTC:20200711T080000
DTEND;TZID=UTC:20200711T170000
DTSTAMP:20260422T015449
CREATED:20200710T111539Z
LAST-MODIFIED:20200710T111638Z
UID:287-1594454400-1594486800@untzilla.txoko.app
SUMMARY:Txirri Comida
DESCRIPTION:Cuatro personas.
URL:https://untzilla.txoko.app/event/txirri-comida/
END:VEVENT
BEGIN:VEVENT
DTSTART;TZID=UTC:20200717T120000
DTEND;TZID=UTC:20200717T170000
DTSTAMP:20260422T015449
CREATED:20200716T151047Z
LAST-MODIFIED:20200716T151055Z
UID:299-1594987200-1595005200@untzilla.txoko.app
SUMMARY:Jesus Fdez
DESCRIPTION:11 lagun
URL:https://untzilla.txoko.app/event/jesus-fdez-4/
END:VEVENT
BEGIN:VEVENT
DTSTART;TZID=UTC:20200718T080000
DTEND;TZID=UTC:20200718T170000
DTSTAMP:20260422T015449
CREATED:20200614T201316Z
LAST-MODIFIED:20200614T201316Z
UID:213-1595059200-1595091600@untzilla.txoko.app
SUMMARY:Aitor bazkaria
DESCRIPTION:16 lagun
URL:https://untzilla.txoko.app/event/aitor-bazkaria/
END:VEVENT
BEGIN:VEVENT
DTSTART;TZID=UTC:20200719T080000
DTEND;TZID=UTC:20200719T170000
DTSTAMP:20260422T015449
CREATED:20200715T184554Z
LAST-MODIFIED:20200715T184554Z
UID:295-1595145600-1595178000@untzilla.txoko.app
SUMMARY:Txirri bazkaria
DESCRIPTION:8 personas con parrilla
URL:https://untzilla.txoko.app/event/txirri-bazkaria/
END:VEVENT
BEGIN:VEVENT
DTSTART;TZID=UTC:20200720T210000
DTEND;TZID=UTC:20200721T020000
DTSTAMP:20260422T015449
CREATED:20200720T183357Z
LAST-MODIFIED:20200720T183357Z
UID:304-1595278800-1595296800@untzilla.txoko.app
SUMMARY:Jesus Fdez
DESCRIPTION:11 lagun
URL:https://untzilla.txoko.app/event/jesus-fdez-5/
END:VEVENT
BEGIN:VEVENT
DTSTART;TZID=UTC:20200725T080000
DTEND;TZID=UTC:20200725T170000
DTSTAMP:20260422T015449
CREATED:20200718T133250Z
LAST-MODIFIED:20200718T133250Z
UID:302-1595664000-1595696400@untzilla.txoko.app
SUMMARY:Txirri baskaría
DESCRIPTION:14  lagun
URL:https://untzilla.txoko.app/event/txirri-baskaria/
END:VEVENT
BEGIN:VEVENT
DTSTART;TZID=UTC:20200727T080000
DTEND;TZID=UTC:20200727T170000
DTSTAMP:20260422T015449
CREATED:20200724T190735Z
LAST-MODIFIED:20200724T190735Z
UID:306-1595836800-1595869200@untzilla.txoko.app
SUMMARY:Txirri Comida
DESCRIPTION:8 personas
URL:https://untzilla.txoko.app/event/txirri-comida-2/
END:VEVENT
BEGIN:VEVENT
DTSTART;TZID=UTC:20200728T190000
DTEND;TZID=UTC:20200728T233000
DTSTAMP:20260422T015449
CREATED:20200613T192301Z
LAST-MODIFIED:20200726T160732Z
UID:210-1595962800-1595979000@untzilla.txoko.app
SUMMARY:Pello afaria
DESCRIPTION:Pello afaria-14 pertsona
URL:https://untzilla.txoko.app/event/pello-afaria/
END:VEVENT
BEGIN:VEVENT
DTSTART;TZID=UTC:20200730T120000
DTEND;TZID=UTC:20200730T200000
DTSTAMP:20260422T015449
CREATED:20200727T094640Z
LAST-MODIFIED:20200727T094640Z
UID:316-1596110400-1596139200@untzilla.txoko.app
SUMMARY:Manda
DESCRIPTION:Bazkaria 6 lagun + erretegia
URL:https://untzilla.txoko.app/event/manda-2/
END:VEVENT
END:VCALENDAR