BEGIN:VCALENDAR
VERSION:2.0
PRODID:-//Untzilla App - ECPv6.0.4//NONSGML v1.0//EN
CALSCALE:GREGORIAN
METHOD:PUBLISH
X-ORIGINAL-URL:https://untzilla.txoko.app
X-WR-CALDESC:Eventos para Untzilla App
REFRESH-INTERVAL;VALUE=DURATION:PT1H
X-Robots-Tag:noindex
X-PUBLISHED-TTL:PT1H
BEGIN:VTIMEZONE
TZID:UTC
BEGIN:STANDARD
TZOFFSETFROM:+0000
TZOFFSETTO:+0000
TZNAME:UTC
DTSTART:20200101T000000
END:STANDARD
END:VTIMEZONE
BEGIN:VEVENT
DTSTART;TZID=UTC:20200604T120000
DTEND;TZID=UTC:20200604T200000
DTSTAMP:20260422T033515
CREATED:20200603T114002Z
LAST-MODIFIED:20200603T114002Z
UID:179-1591272000-1591300800@untzilla.txoko.app
SUMMARY:Jesús Fernández
DESCRIPTION:Comida \n7 personas \n 
URL:https://untzilla.txoko.app/event/jesus-fernandez/
END:VEVENT
BEGIN:VEVENT
DTSTART;TZID=UTC:20200605T080000
DTEND;TZID=UTC:20200605T170000
DTSTAMP:20260422T033515
CREATED:20200602T211928Z
LAST-MODIFIED:20200602T211928Z
UID:173-1591344000-1591376400@untzilla.txoko.app
SUMMARY:Aitzol Etxebarria
DESCRIPTION:bazkaria 5 pertsona
URL:https://untzilla.txoko.app/event/aitzol-etxebarria-2/
END:VEVENT
BEGIN:VEVENT
DTSTART;TZID=UTC:20200605T190000
DTEND;TZID=UTC:20200605T233000
DTSTAMP:20260422T033515
CREATED:20200531T191326Z
LAST-MODIFIED:20200531T191326Z
UID:161-1591383600-1591399800@untzilla.txoko.app
SUMMARY:Ibon lasuen
DESCRIPTION:Afaixe  \n8 lagun
URL:https://untzilla.txoko.app/event/ibon-lasuen-2/
LOCATION:untzilla
END:VEVENT
BEGIN:VEVENT
DTSTART;TZID=UTC:20200606T113000
DTEND;TZID=UTC:20200606T210000
DTSTAMP:20260422T033515
CREATED:20200530T211844Z
LAST-MODIFIED:20200603T113830Z
UID:146-1591443000-1591477200@untzilla.txoko.app
SUMMARY:Jesús Fernández
DESCRIPTION:Comida \n20 personas \nAsador
URL:https://untzilla.txoko.app/event/jesus-madriles/
END:VEVENT
BEGIN:VEVENT
DTSTART;TZID=UTC:20200612T080000
DTEND;TZID=UTC:20200612T170000
DTSTAMP:20260422T033515
CREATED:20200528T174627Z
LAST-MODIFIED:20200528T174627Z
UID:130-1591948800-1591981200@untzilla.txoko.app
SUMMARY:Aitzol Etxebarria
DESCRIPTION:Bazkaria-12 \nBrasa
URL:https://untzilla.txoko.app/event/aitzol-etxebarria/
END:VEVENT
BEGIN:VEVENT
DTSTART;TZID=UTC:20200613T080000
DTEND;TZID=UTC:20200613T170000
DTSTAMP:20260422T033515
CREATED:20200528T164435Z
LAST-MODIFIED:20200528T164946Z
UID:123-1592035200-1592067600@untzilla.txoko.app
SUMMARY:Baskaría txirri
DESCRIPTION:Comida 8 lagun
URL:https://untzilla.txoko.app/event/bajaria-txirri/
END:VEVENT
BEGIN:VEVENT
DTSTART;TZID=UTC:20200623T203000
DTEND;TZID=UTC:20200624T020000
DTSTAMP:20260422T033515
CREATED:20200623T121607Z
LAST-MODIFIED:20200623T121607Z
UID:224-1592944200-1592964000@untzilla.txoko.app
SUMMARY:Jesus fdez
DESCRIPTION:Afarixe/Cena \n  \n5 lagun/ 5 personas
URL:https://untzilla.txoko.app/event/jesus-fdez/
END:VEVENT
BEGIN:VEVENT
DTSTART;TZID=UTC:20200625T200000
DTEND;TZID=UTC:20200626T020000
DTSTAMP:20260422T033515
CREATED:20200625T174408Z
LAST-MODIFIED:20200625T174408Z
UID:232-1593115200-1593136800@untzilla.txoko.app
SUMMARY:Jesus fdez
DESCRIPTION:4 lagun
URL:https://untzilla.txoko.app/event/jesus-fdez-2/
END:VEVENT
BEGIN:VEVENT
DTSTART;TZID=UTC:20200626T203000
DTEND;TZID=UTC:20200626T233000
DTSTAMP:20260422T033515
CREATED:20200625T000836Z
LAST-MODIFIED:20200625T001034Z
UID:228-1593203400-1593214200@untzilla.txoko.app
SUMMARY:Joseba goxencia
DESCRIPTION:Afaria\nErretegia \n13 lagun
URL:https://untzilla.txoko.app/event/joseba-goxencia/
END:VEVENT
END:VCALENDAR