BEGIN:VCALENDAR
VERSION:2.0
PRODID:-//Untzilla App - ECPv6.0.4//NONSGML v1.0//EN
CALSCALE:GREGORIAN
METHOD:PUBLISH
X-WR-CALNAME:Untzilla App
X-ORIGINAL-URL:https://untzilla.txoko.app
X-WR-CALDESC:Eventos para Untzilla App
REFRESH-INTERVAL;VALUE=DURATION:PT1H
X-Robots-Tag:noindex
X-PUBLISHED-TTL:PT1H
BEGIN:VTIMEZONE
TZID:UTC
BEGIN:STANDARD
TZOFFSETFROM:+0000
TZOFFSETTO:+0000
TZNAME:UTC
DTSTART:20200101T000000
END:STANDARD
END:VTIMEZONE
BEGIN:VEVENT
DTSTART;TZID=UTC:20210731T080000
DTEND;TZID=UTC:20210731T170000
DTSTAMP:20260421T044208
CREATED:20210721T194647Z
LAST-MODIFIED:20210721T194647Z
UID:624-1627718400-1627750800@untzilla.txoko.app
SUMMARY:Aitor bazkaria 6 lagun
DESCRIPTION:
URL:https://untzilla.txoko.app/event/aitor-bazkaria-6-lagun/
END:VEVENT
BEGIN:VEVENT
DTSTART;VALUE=DATE:20210725
DTEND;VALUE=DATE:20210726
DTSTAMP:20260421T044208
CREATED:20210721T115205Z
LAST-MODIFIED:20210721T115205Z
UID:611-1627171200-1627257599@untzilla.txoko.app
SUMMARY:Comida txirri 8 personas
DESCRIPTION:
URL:https://untzilla.txoko.app/event/comida-txirri-8-personas/
END:VEVENT
BEGIN:VEVENT
DTSTART;TZID=UTC:20210713T080000
DTEND;TZID=UTC:20210713T170000
DTSTAMP:20260421T044208
CREATED:20210713T152623Z
LAST-MODIFIED:20210713T152623Z
UID:604-1626163200-1626195600@untzilla.txoko.app
SUMMARY:AITOR BAZKARIA
DESCRIPTION:10 LAGUN
URL:https://untzilla.txoko.app/event/aitor-bazkaria-8/
END:VEVENT
BEGIN:VEVENT
DTSTART;TZID=UTC:20210712T080000
DTEND;TZID=UTC:20210712T170000
DTSTAMP:20260421T044208
CREATED:20210712T182413Z
LAST-MODIFIED:20210712T182413Z
UID:601-1626076800-1626109200@untzilla.txoko.app
SUMMARY:Jesus Fernández
DESCRIPTION:Afaria 9 lagun
URL:https://untzilla.txoko.app/event/jesus-fernandez-2/
END:VEVENT
BEGIN:VEVENT
DTSTART;TZID=UTC:20210710T080000
DTEND;TZID=UTC:20210710T170000
DTSTAMP:20260421T044208
CREATED:20210619T110329Z
LAST-MODIFIED:20210628T225121Z
UID:536-1625904000-1625936400@untzilla.txoko.app
SUMMARY:Aitor bazkaria
DESCRIPTION:14 lagun asadorea
URL:https://untzilla.txoko.app/event/aitor-bazkaria-7/
END:VEVENT
BEGIN:VEVENT
DTSTART;TZID=UTC:20210709T120000
DTEND;TZID=UTC:20210709T220000
DTSTAMP:20260421T044208
CREATED:20210624T140132Z
LAST-MODIFIED:20210624T140132Z
UID:550-1625832000-1625868000@untzilla.txoko.app
SUMMARY:Pello Baños bazkaria
DESCRIPTION:Pello baños \nbazkaria-10 lagun
URL:https://untzilla.txoko.app/event/pello-banos-bazkaria/
END:VEVENT
BEGIN:VEVENT
DTSTART;TZID=UTC:20210708T080000
DTEND;TZID=UTC:20210708T170000
DTSTAMP:20260421T044208
CREATED:20210702T095209Z
LAST-MODIFIED:20210702T095209Z
UID:578-1625731200-1625763600@untzilla.txoko.app
SUMMARY:Karkun bazkaria1
DESCRIPTION:12 pertsona
URL:https://untzilla.txoko.app/event/karkun-bazkaria1/
END:VEVENT
BEGIN:VEVENT
DTSTART;TZID=UTC:20210707T080000
DTEND;TZID=UTC:20210707T170000
DTSTAMP:20260421T044208
CREATED:20210707T105502Z
LAST-MODIFIED:20210707T105502Z
UID:587-1625644800-1625677200@untzilla.txoko.app
SUMMARY:Txirri  baskaria
DESCRIPTION:6 lagun
URL:https://untzilla.txoko.app/event/txirri-baskaria-2/
END:VEVENT
BEGIN:VEVENT
DTSTART;TZID=UTC:20210704T080000
DTEND;TZID=UTC:20210704T170000
DTSTAMP:20260421T044208
CREATED:20210630T210241Z
LAST-MODIFIED:20210630T210241Z
UID:564-1625385600-1625418000@untzilla.txoko.app
SUMMARY:Txirri comida 8 personas.
DESCRIPTION:
URL:https://untzilla.txoko.app/event/txirri-comida-8-personas/
END:VEVENT
BEGIN:VEVENT
DTSTART;TZID=UTC:20210703T080000
DTEND;TZID=UTC:20210703T170000
DTSTAMP:20260421T044208
CREATED:20210619T104324Z
LAST-MODIFIED:20210628T225033Z
UID:532-1625299200-1625331600@untzilla.txoko.app
SUMMARY:Aitor bazkaria
DESCRIPTION:10 lagun asadorea
URL:https://untzilla.txoko.app/event/aitor-bazkaria-6/
END:VEVENT
BEGIN:VEVENT
DTSTART;TZID=UTC:20210702T190000
DTEND;TZID=UTC:20210702T230000
DTSTAMP:20260421T044208
CREATED:20210701T131332Z
LAST-MODIFIED:20210701T131332Z
UID:568-1625252400-1625266800@untzilla.txoko.app
SUMMARY:Pello afaria
DESCRIPTION:Pello baños \nafaria – 10 lagun
URL:https://untzilla.txoko.app/event/pello-afaria-5/
END:VEVENT
BEGIN:VEVENT
DTSTART;TZID=UTC:20210626T080000
DTEND;TZID=UTC:20210626T170000
DTSTAMP:20260421T044208
CREATED:20210620T115019Z
LAST-MODIFIED:20210620T115019Z
UID:542-1624694400-1624726800@untzilla.txoko.app
SUMMARY:Endika Zarrabeitia
DESCRIPTION:Bazkaridje 15 lagun
URL:https://untzilla.txoko.app/event/endika-zarrabeitia/
END:VEVENT
BEGIN:VEVENT
DTSTART;VALUE=DATE:20210626
DTEND;VALUE=DATE:20210627
DTSTAMP:20260421T044208
CREATED:20210623T081813Z
LAST-MODIFIED:20210623T081813Z
UID:548-1624665600-1624751999@untzilla.txoko.app
SUMMARY:Manda bazkaria 5 pertsona
DESCRIPTION:
URL:https://untzilla.txoko.app/event/manda-bazkaria-5-pertsona/
END:VEVENT
BEGIN:VEVENT
DTSTART;TZID=UTC:20210624T190000
DTEND;TZID=UTC:20210624T230000
DTSTAMP:20260421T044208
CREATED:20210620T175605Z
LAST-MODIFIED:20210620T175605Z
UID:544-1624561200-1624575600@untzilla.txoko.app
SUMMARY:Pello afaria
DESCRIPTION:10 lagun-afaria
URL:https://untzilla.txoko.app/event/pello-afaria-4/
END:VEVENT
BEGIN:VEVENT
DTSTART;TZID=UTC:20201212T080000
DTEND;TZID=UTC:20201212T170000
DTSTAMP:20260421T044208
CREATED:20201003T162427Z
LAST-MODIFIED:20201003T162427Z
UID:483-1607760000-1607792400@untzilla.txoko.app
SUMMARY:AITOR BAZKARIA
DESCRIPTION:BAZKARIA 10 LAGUN
URL:https://untzilla.txoko.app/event/aitor-bazkaria-5/
END:VEVENT
BEGIN:VEVENT
DTSTART;TZID=UTC:20201121T080000
DTEND;TZID=UTC:20201121T170000
DTSTAMP:20260421T044208
CREATED:20201003T162345Z
LAST-MODIFIED:20201003T162345Z
UID:481-1605945600-1605978000@untzilla.txoko.app
SUMMARY:AITOR BAZKARIA
DESCRIPTION:BAZKARIA 10 LAGUN
URL:https://untzilla.txoko.app/event/aitor-bazkaria-4/
END:VEVENT
BEGIN:VEVENT
DTSTART;VALUE=DATE:20201107
DTEND;VALUE=DATE:20201108
DTSTAMP:20260421T044208
CREATED:20201010T170717Z
LAST-MODIFIED:20201010T174558Z
UID:506-1604707200-1604793599@untzilla.txoko.app
SUMMARY:Paul Baños
DESCRIPTION:Bazkari – afaria\, 16 pertsona
URL:https://untzilla.txoko.app/event/paul-banos-3/
END:VEVENT
BEGIN:VEVENT
DTSTART;TZID=UTC:20201031T080000
DTEND;TZID=UTC:20201031T170000
DTSTAMP:20260421T044208
CREATED:20201014T144118Z
LAST-MODIFIED:20201014T144118Z
UID:523-1604131200-1604163600@untzilla.txoko.app
SUMMARY:Txarli
DESCRIPTION:Bazkaria \n12 lagun \nZukaldeko labea
URL:https://untzilla.txoko.app/event/txarli-2/
END:VEVENT
BEGIN:VEVENT
DTSTART;TZID=UTC:20201031T080000
DTEND;TZID=UTC:20201031T170000
DTSTAMP:20260421T044208
CREATED:20201014T143250Z
LAST-MODIFIED:20201014T143250Z
UID:517-1604131200-1604163600@untzilla.txoko.app
SUMMARY:Txarli
DESCRIPTION:
URL:https://untzilla.txoko.app/event/txarli/
END:VEVENT
BEGIN:VEVENT
DTSTART;TZID=UTC:20201025T080000
DTEND;TZID=UTC:20201025T170000
DTSTAMP:20260421T044208
CREATED:20201004T092027Z
LAST-MODIFIED:20201004T092027Z
UID:485-1603612800-1603645200@untzilla.txoko.app
SUMMARY:Bazkaria Henry - Txarly
DESCRIPTION:Txoko osoa
URL:https://untzilla.txoko.app/event/bazkaria-henry-txarly/
END:VEVENT
BEGIN:VEVENT
DTSTART;TZID=UTC:20201017T080000
DTEND;TZID=UTC:20201017T170000
DTSTAMP:20260421T044208
CREATED:20201003T161712Z
LAST-MODIFIED:20201003T161712Z
UID:477-1602921600-1602954000@untzilla.txoko.app
SUMMARY:AITOR BAZKARIA
DESCRIPTION:8 LAGUN
URL:https://untzilla.txoko.app/event/aitor-bazkaria-3/
END:VEVENT
BEGIN:VEVENT
DTSTART;VALUE=DATE:20201017
DTEND;VALUE=DATE:20201018
DTSTAMP:20260421T044208
CREATED:20200915T182240Z
LAST-MODIFIED:20200915T182657Z
UID:416-1602892800-1602979199@untzilla.txoko.app
SUMMARY:Aitzol bazkaria 10
DESCRIPTION:Aitzol bazkaria- 10 pertsona\nErretegixe bai
URL:https://untzilla.txoko.app/event/aitzol-bazkaria-10/
END:VEVENT
BEGIN:VEVENT
DTSTART;TZID=UTC:20201011T200000
DTEND;TZID=UTC:20201011T233000
DTSTAMP:20260421T044208
CREATED:20201010T112733Z
LAST-MODIFIED:20201010T112733Z
UID:504-1602446400-1602459000@untzilla.txoko.app
SUMMARY:
DESCRIPTION:Afaria 4 pertsona
URL:https://untzilla.txoko.app/event/504/
END:VEVENT
BEGIN:VEVENT
DTSTART;VALUE=DATE:20201011
DTEND;VALUE=DATE:20201012
DTSTAMP:20260421T044208
CREATED:20200915T175137Z
LAST-MODIFIED:20200915T175137Z
UID:413-1602374400-1602460799@untzilla.txoko.app
SUMMARY:Pello bazkaria
DESCRIPTION:Pello bazkaria- 10 pertsona\nErretegixe bai
URL:https://untzilla.txoko.app/event/pello-bazkaria-2/
END:VEVENT
BEGIN:VEVENT
DTSTART;TZID=UTC:20201010T200000
DTEND;TZID=UTC:20201010T233000
DTSTAMP:20260421T044208
CREATED:20201009T195412Z
LAST-MODIFIED:20201009T195412Z
UID:502-1602360000-1602372600@untzilla.txoko.app
SUMMARY:Ibon lasuen afaixe
DESCRIPTION:4 pertsona afaiteko / 4 personas para cenar
URL:https://untzilla.txoko.app/event/ibon-lasuen-afaixe/
END:VEVENT
BEGIN:VEVENT
DTSTART;VALUE=DATE:20201010
DTEND;VALUE=DATE:20201011
DTSTAMP:20260421T044208
CREATED:20201003T001401Z
LAST-MODIFIED:20201003T001401Z
UID:474-1602288000-1602374399@untzilla.txoko.app
SUMMARY:Odile bazkaria
DESCRIPTION:20 lagun
URL:https://untzilla.txoko.app/event/odile-bazkaria-4/
END:VEVENT
BEGIN:VEVENT
DTSTART;TZID=UTC:20201006T000000
DTEND;TZID=UTC:20201006T210000
DTSTAMP:20260421T044208
CREATED:20200906T115205Z
LAST-MODIFIED:20200907T104042Z
UID:341-1601942400-1602018000@untzilla.txoko.app
SUMMARY:Marifran - bazkaria
DESCRIPTION:6 pertsona
URL:https://untzilla.txoko.app/event/marifran-bazkaria/
END:VEVENT
BEGIN:VEVENT
DTSTART;TZID=UTC:20201003T080000
DTEND;TZID=UTC:20201003T170000
DTSTAMP:20260421T044208
CREATED:20200930T195230Z
LAST-MODIFIED:20200930T195230Z
UID:456-1601712000-1601744400@untzilla.txoko.app
SUMMARY:IBAI bazkaria 8-10lagun
DESCRIPTION:
URL:https://untzilla.txoko.app/event/ibai-bazkaria-8-10lagun/
END:VEVENT
BEGIN:VEVENT
DTSTART;VALUE=DATE:20201002
DTEND;VALUE=DATE:20201003
DTSTAMP:20260421T044208
CREATED:20201002T230245Z
LAST-MODIFIED:20201002T230245Z
UID:462-1601596800-1601683199@untzilla.txoko.app
SUMMARY:Odile (bazkaria)
DESCRIPTION:25 lagun
URL:https://untzilla.txoko.app/event/odile-bazkaria-3/
END:VEVENT
BEGIN:VEVENT
DTSTART;TZID=UTC:20201001T190000
DTEND;TZID=UTC:20201001T190000
DTSTAMP:20260421T044208
CREATED:20200924T145301Z
LAST-MODIFIED:20200924T145323Z
UID:439-1601578800-1601578800@untzilla.txoko.app
SUMMARY:Paul Baños
DESCRIPTION:Afaria 12 pertsona
URL:https://untzilla.txoko.app/event/paul-banos-2/
END:VEVENT
END:VCALENDAR