BEGIN:VCALENDAR
VERSION:2.0
PRODID:-//Untzilla App - ECPv6.0.4//NONSGML v1.0//EN
CALSCALE:GREGORIAN
METHOD:PUBLISH
X-WR-CALNAME:Untzilla App
X-ORIGINAL-URL:https://untzilla.txoko.app
X-WR-CALDESC:Eventos para Untzilla App
REFRESH-INTERVAL;VALUE=DURATION:PT1H
X-Robots-Tag:noindex
X-PUBLISHED-TTL:PT1H
BEGIN:VTIMEZONE
TZID:UTC
BEGIN:STANDARD
TZOFFSETFROM:+0000
TZOFFSETTO:+0000
TZNAME:UTC
DTSTART:20220101T000000
END:STANDARD
END:VTIMEZONE
BEGIN:VEVENT
DTSTART;TZID=UTC:20221030T170000
DTEND;TZID=UTC:20221030T220000
DTSTAMP:20260420T075758
CREATED:20221028T114445Z
LAST-MODIFIED:20221028T114445Z
UID:1390-1667149200-1667167200@untzilla.txoko.app
SUMMARY:Afari-merienda 5 lagun manda
DESCRIPTION:
URL:https://untzilla.txoko.app/event/afari-merienda-5-lagun-manda/
END:VEVENT
BEGIN:VEVENT
DTSTART;TZID=UTC:20221029T080000
DTEND;TZID=UTC:20221029T170000
DTSTAMP:20260420T075758
CREATED:20221011T114326Z
LAST-MODIFIED:20221011T114326Z
UID:1378-1667030400-1667062800@untzilla.txoko.app
SUMMARY:Aitor bazkaria 15 lagun
DESCRIPTION:
URL:https://untzilla.txoko.app/event/aitor-bazkaria-15-lagun-2/
END:VEVENT
BEGIN:VEVENT
DTSTART;TZID=UTC:20221022T080000
DTEND;TZID=UTC:20221022T170000
DTSTAMP:20260420T075758
CREATED:20220708T111324Z
LAST-MODIFIED:20220708T111324Z
UID:1274-1666425600-1666458000@untzilla.txoko.app
SUMMARY:Comida Txirri 20 personas.
DESCRIPTION:Parrilla.
URL:https://untzilla.txoko.app/event/comida-txirri-20-personas/
END:VEVENT
BEGIN:VEVENT
DTSTART;VALUE=DATE:20221021
DTEND;VALUE=DATE:20221022
DTSTAMP:20260420T075758
CREATED:20220926T180419Z
LAST-MODIFIED:20220926T180419Z
UID:1356-1666310400-1666396799@untzilla.txoko.app
SUMMARY:Paul Baños bazkaria
DESCRIPTION:14 pertsona
URL:https://untzilla.txoko.app/event/paul-banos-bazkaria/
END:VEVENT
BEGIN:VEVENT
DTSTART;TZID=UTC:20221007T210000
DTEND;TZID=UTC:20221007T233000
DTSTAMP:20260420T075758
CREATED:20220917T141328Z
LAST-MODIFIED:20220917T141328Z
UID:1353-1665176400-1665185400@untzilla.txoko.app
SUMMARY:Afari 20 pertsona
DESCRIPTION:
URL:https://untzilla.txoko.app/event/afari-20-pertsona/
END:VEVENT
BEGIN:VEVENT
DTSTART;VALUE=DATE:20221001
DTEND;VALUE=DATE:20221002
DTSTAMP:20260420T075758
CREATED:20220907T183325Z
LAST-MODIFIED:20220907T183325Z
UID:1345-1664582400-1664668799@untzilla.txoko.app
SUMMARY:Odile bazkaria 15 lagun
DESCRIPTION: 
URL:https://untzilla.txoko.app/event/odile-bazkaria-15-lagun/
END:VEVENT
BEGIN:VEVENT
DTSTART;TZID=UTC:20220917T110000
DTEND;TZID=UTC:20220917T200000
DTSTAMP:20260420T075758
CREATED:20220807T151158Z
LAST-MODIFIED:20220807T151158Z
UID:1310-1663412400-1663444800@untzilla.txoko.app
SUMMARY:Román\,  Bazkaria 10 lagun
DESCRIPTION: 
URL:https://untzilla.txoko.app/event/roman-bazkaria-10-lagun/
END:VEVENT
BEGIN:VEVENT
DTSTART;TZID=UTC:20220911T100000
DTEND;TZID=UTC:20220911T210000
DTSTAMP:20260420T075758
CREATED:20220726T194958Z
LAST-MODIFIED:20220911T114241Z
UID:1294-1662890400-1662930000@untzilla.txoko.app
SUMMARY:Marifran - bazkaria 15 lagun
DESCRIPTION:Marifran – bazkaria 15 lagun
URL:https://untzilla.txoko.app/event/marifran-bazkaria-15-lagun/
END:VEVENT
BEGIN:VEVENT
DTSTART;VALUE=DATE:20220910
DTEND;VALUE=DATE:20220911
DTSTAMP:20260420T075758
CREATED:20220521T123433Z
LAST-MODIFIED:20220521T123433Z
UID:1160-1662768000-1662854399@untzilla.txoko.app
SUMMARY:ibon lasuen bazkaria 50pertsona
DESCRIPTION:
URL:https://untzilla.txoko.app/event/ibon-lasuen-bazkaria-50pertsona/
END:VEVENT
BEGIN:VEVENT
DTSTART;TZID=UTC:20220904T110000
DTEND;TZID=UTC:20220904T200000
DTSTAMP:20260420T075758
CREATED:20220812T152403Z
LAST-MODIFIED:20220812T152403Z
UID:1324-1662289200-1662321600@untzilla.txoko.app
SUMMARY:Joseba Goxencia bazkaria 20
DESCRIPTION:
URL:https://untzilla.txoko.app/event/joseba-goxencia-bazkaria-20/
LOCATION:untzilla
END:VEVENT
BEGIN:VEVENT
DTSTART;TZID=UTC:20220826T120000
DTEND;TZID=UTC:20220826T180000
DTSTAMP:20260420T075758
CREATED:20220820T182911Z
LAST-MODIFIED:20220820T182911Z
UID:1334-1661515200-1661536800@untzilla.txoko.app
SUMMARY:Bazkaria txarli 15 lagun
DESCRIPTION:
URL:https://untzilla.txoko.app/event/bazkaria-txarli-15-lagun/
END:VEVENT
BEGIN:VEVENT
DTSTART;TZID=UTC:20220824T120000
DTEND;TZID=UTC:20220824T190000
DTSTAMP:20260420T075758
CREATED:20220823T132939Z
LAST-MODIFIED:20220823T132939Z
UID:1336-1661342400-1661367600@untzilla.txoko.app
SUMMARY:Marifran - bazkaria - 3 lagun
DESCRIPTION:Marifran – bazkaria – 3 lagun
URL:https://untzilla.txoko.app/event/marifran-bazkaria-3-lagun/
END:VEVENT
BEGIN:VEVENT
DTSTART;TZID=UTC:20220824T080000
DTEND;TZID=UTC:20220824T170000
DTSTAMP:20260420T075758
CREATED:20220817T093312Z
LAST-MODIFIED:20220817T093312Z
UID:1329-1661328000-1661360400@untzilla.txoko.app
SUMMARY:Aitor bazkaria 16 lagun
DESCRIPTION:
URL:https://untzilla.txoko.app/event/aitor-bazkaria-16-lagun-2/
END:VEVENT
BEGIN:VEVENT
DTSTART;TZID=UTC:20220819T190000
DTEND;TZID=UTC:20220819T233000
DTSTAMP:20260420T075758
CREATED:20220817T092500Z
LAST-MODIFIED:20220817T092500Z
UID:1327-1660935600-1660951800@untzilla.txoko.app
SUMMARY:Afaria 12 pertsona Antxon
DESCRIPTION:
URL:https://untzilla.txoko.app/event/afaria-12-pertsona-antxon/
END:VEVENT
BEGIN:VEVENT
DTSTART;TZID=UTC:20220812T080000
DTEND;TZID=UTC:20220812T170000
DTSTAMP:20260420T075758
CREATED:20220810T123915Z
LAST-MODIFIED:20220810T123915Z
UID:1318-1660291200-1660323600@untzilla.txoko.app
SUMMARY:aitor bazkaria 15 lagun
DESCRIPTION:
URL:https://untzilla.txoko.app/event/aitor-bazkaria-15-lagun/
END:VEVENT
BEGIN:VEVENT
DTSTART;TZID=UTC:20220805T080000
DTEND;TZID=UTC:20220805T170000
DTSTAMP:20260420T075758
CREATED:20220801T153038Z
LAST-MODIFIED:20220801T153038Z
UID:1299-1659686400-1659718800@untzilla.txoko.app
SUMMARY:Bazkaria 4 lagun Manda
DESCRIPTION:
URL:https://untzilla.txoko.app/event/bazkaria-4-lagun-manda/
END:VEVENT
BEGIN:VEVENT
DTSTART;TZID=UTC:20220713T080000
DTEND;TZID=UTC:20220713T170000
DTSTAMP:20260420T075758
CREATED:20220712T190409Z
LAST-MODIFIED:20220712T190409Z
UID:1281-1657699200-1657731600@untzilla.txoko.app
SUMMARY:Txirri merienda 4 personad
DESCRIPTION:
URL:https://untzilla.txoko.app/event/txirri-merienda-4-personad/
END:VEVENT
BEGIN:VEVENT
DTSTART;TZID=UTC:20220712T120000
DTEND;TZID=UTC:20220712T200000
DTSTAMP:20260420T075758
CREATED:20220708T172429Z
LAST-MODIFIED:20220708T172429Z
UID:1279-1657627200-1657656000@untzilla.txoko.app
SUMMARY:Bazkaria 15 lagun
DESCRIPTION:
URL:https://untzilla.txoko.app/event/bazkaria-15-lagun/
END:VEVENT
BEGIN:VEVENT
DTSTART;VALUE=DATE:20220712
DTEND;VALUE=DATE:20220713
DTSTAMP:20260420T075758
CREATED:20220714T112314Z
LAST-MODIFIED:20220714T112314Z
UID:1288-1657584000-1657670399@untzilla.txoko.app
SUMMARY:afaria-10 lagun -Gastelu(Pontxio)
DESCRIPTION:
URL:https://untzilla.txoko.app/event/afaria-10-lagun-gastelupontxio/
END:VEVENT
BEGIN:VEVENT
DTSTART;TZID=UTC:20220709T080000
DTEND;TZID=UTC:20220709T170000
DTSTAMP:20260420T075758
CREATED:20220607T082730Z
LAST-MODIFIED:20220607T082730Z
UID:1225-1657353600-1657386000@untzilla.txoko.app
SUMMARY:Aitor bazkaria 8 lagun
DESCRIPTION:
URL:https://untzilla.txoko.app/event/aitor-bazkaria-8-lagun/
END:VEVENT
BEGIN:VEVENT
DTSTART;TZID=UTC:20220703T080000
DTEND;TZID=UTC:20220703T170000
DTSTAMP:20260420T075758
CREATED:20220628T202628Z
LAST-MODIFIED:20220628T202628Z
UID:1261-1656835200-1656867600@untzilla.txoko.app
SUMMARY:Zarra
DESCRIPTION:Bazkaria 10 lagun
URL:https://untzilla.txoko.app/event/zarra-2/
END:VEVENT
BEGIN:VEVENT
DTSTART;TZID=UTC:20220702T080000
DTEND;TZID=UTC:20220702T170000
DTSTAMP:20260420T075758
CREATED:20220513T143739Z
LAST-MODIFIED:20220513T143739Z
UID:1152-1656748800-1656781200@untzilla.txoko.app
SUMMARY:Aitzol bazkaria 35
DESCRIPTION:Aitzol etxebarria 35 pertsona.
URL:https://untzilla.txoko.app/event/aitzol-bazkaria-35/
END:VEVENT
BEGIN:VEVENT
DTSTART;TZID=UTC:20220628T190000
DTEND;TZID=UTC:20220628T233000
DTSTAMP:20260420T075758
CREATED:20220628T125519Z
LAST-MODIFIED:20220628T125519Z
UID:1258-1656442800-1656459000@untzilla.txoko.app
SUMMARY:Pello baños afaria
DESCRIPTION:Pello baños \nafaria – 7 lagun \n 
URL:https://untzilla.txoko.app/event/pello-banos-afaria-3/
END:VEVENT
BEGIN:VEVENT
DTSTART;TZID=UTC:20220628T080000
DTEND;TZID=UTC:20220628T170000
DTSTAMP:20260420T075758
CREATED:20220627T105153Z
LAST-MODIFIED:20220627T105153Z
UID:1252-1656403200-1656435600@untzilla.txoko.app
SUMMARY:Odile afaria 10 pertsona
DESCRIPTION: 
URL:https://untzilla.txoko.app/event/odile-afaria-10-pertsona/
END:VEVENT
BEGIN:VEVENT
DTSTART;TZID=UTC:20220625T080000
DTEND;TZID=UTC:20220625T200000
DTSTAMP:20260420T075758
CREATED:20220521T181744Z
LAST-MODIFIED:20220521T181744Z
UID:1170-1656144000-1656187200@untzilla.txoko.app
SUMMARY:Manda bazkaria 6 lagun
DESCRIPTION:
URL:https://untzilla.txoko.app/event/manda-bazkaria-6-lagun-2/
END:VEVENT
BEGIN:VEVENT
DTSTART;TZID=UTC:20220625T080000
DTEND;TZID=UTC:20220625T170000
DTSTAMP:20260420T075758
CREATED:20220417T204444Z
LAST-MODIFIED:20220417T204444Z
UID:1089-1656144000-1656176400@untzilla.txoko.app
SUMMARY:Aitor 20 lagun bazkaria
DESCRIPTION:
URL:https://untzilla.txoko.app/event/aitor-20-lagun-bazkaria/
END:VEVENT
BEGIN:VEVENT
DTSTART;TZID=UTC:20220624T140000
DTEND;TZID=UTC:20220624T200000
DTSTAMP:20260420T075758
CREATED:20220606T114833Z
LAST-MODIFIED:20220614T114858Z
UID:1218-1656079200-1656100800@untzilla.txoko.app
SUMMARY:Comida 8 Lagun
DESCRIPTION:
URL:https://untzilla.txoko.app/event/comida/
LOCATION:untzilla
END:VEVENT
BEGIN:VEVENT
DTSTART;TZID=UTC:20220618T100000
DTEND;TZID=UTC:20220618T223000
DTSTAMP:20260420T075758
CREATED:20220430T150743Z
LAST-MODIFIED:20220612T175300Z
UID:1113-1655546400-1655591400@untzilla.txoko.app
SUMMARY:Marifran - bazkaria - 14
DESCRIPTION:Marifran – 14 bazkaria
URL:https://untzilla.txoko.app/event/lehengusuek/
END:VEVENT
BEGIN:VEVENT
DTSTART;TZID=UTC:20220617T140000
DTEND;TZID=UTC:20220617T170000
DTSTAMP:20260420T075758
CREATED:20220609T122132Z
LAST-MODIFIED:20220609T122132Z
UID:1232-1655474400-1655485200@untzilla.txoko.app
SUMMARY:karkun bazkaria. 17 de Junio . 15 peetsona
DESCRIPTION:15 pertsona
URL:https://untzilla.txoko.app/event/karkun-bazkaria-17-de-junio-15-peetsona/
END:VEVENT
BEGIN:VEVENT
DTSTART;TZID=UTC:20220609T190000
DTEND;TZID=UTC:20220609T233000
DTSTAMP:20260420T075758
CREATED:20220606T131352Z
LAST-MODIFIED:20220606T131352Z
UID:1223-1654801200-1654817400@untzilla.txoko.app
SUMMARY:Pello baños afaria - 10 lagun
DESCRIPTION:Pello baños \nafaria – 10 lagun
URL:https://untzilla.txoko.app/event/pello-banos-afaria-10-lagun/
END:VEVENT
END:VCALENDAR