BEGIN:VCALENDAR
VERSION:2.0
PRODID:-//Untzilla App - ECPv6.0.4//NONSGML v1.0//EN
CALSCALE:GREGORIAN
METHOD:PUBLISH
X-WR-CALNAME:Untzilla App
X-ORIGINAL-URL:https://untzilla.txoko.app
X-WR-CALDESC:Eventos para Untzilla App
REFRESH-INTERVAL;VALUE=DURATION:PT1H
X-Robots-Tag:noindex
X-PUBLISHED-TTL:PT1H
BEGIN:VTIMEZONE
TZID:UTC
BEGIN:STANDARD
TZOFFSETFROM:+0000
TZOFFSETTO:+0000
TZNAME:UTC
DTSTART:20220101T000000
END:STANDARD
END:VTIMEZONE
BEGIN:VEVENT
DTSTART;TZID=UTC:20230128T080000
DTEND;TZID=UTC:20230128T170000
DTSTAMP:20260420T025106
CREATED:20221226T141610Z
LAST-MODIFIED:20221226T141610Z
UID:1520-1674892800-1674925200@untzilla.txoko.app
SUMMARY:Aitor bazkaria 20 lagun
DESCRIPTION:
URL:https://untzilla.txoko.app/event/aitor-bazkaria-20-lagun/
END:VEVENT
BEGIN:VEVENT
DTSTART;TZID=UTC:20230125T210000
DTEND;TZID=UTC:20230125T233000
DTSTAMP:20260420T025106
CREATED:20230125T172729Z
LAST-MODIFIED:20230125T172729Z
UID:1554-1674680400-1674689400@untzilla.txoko.app
SUMMARY:Afaria abenduak 25 15 pertsona
DESCRIPTION:
URL:https://untzilla.txoko.app/event/afaria-abenduak-25-15-pertsona/
END:VEVENT
BEGIN:VEVENT
DTSTART;TZID=UTC:20230122T080000
DTEND;TZID=UTC:20230122T170000
DTSTAMP:20260420T025106
CREATED:20221229T104540Z
LAST-MODIFIED:20230120T103156Z
UID:1535-1674374400-1674406800@untzilla.txoko.app
SUMMARY:bazkaixe 10 pertsona
DESCRIPTION:ibon lasuen \nDomekan urtarrillak 22\, 10 pertsona bazkaitteko.
URL:https://untzilla.txoko.app/event/bazkaixe-10-pertsona/
END:VEVENT
BEGIN:VEVENT
DTSTART;TZID=UTC:20230121T080000
DTEND;TZID=UTC:20230121T170000
DTSTAMP:20260420T025106
CREATED:20221115T201357Z
LAST-MODIFIED:20221115T201357Z
UID:1447-1674288000-1674320400@untzilla.txoko.app
SUMMARY:Bazkaria 30 lagun (Zarra)
DESCRIPTION:
URL:https://untzilla.txoko.app/event/bazkaria-30-lagun-zarra/
END:VEVENT
BEGIN:VEVENT
DTSTART;TZID=UTC:20230114T080000
DTEND;TZID=UTC:20230114T233000
DTSTAMP:20260420T025106
CREATED:20221127T133914Z
LAST-MODIFIED:20221127T133914Z
UID:1485-1673683200-1673739000@untzilla.txoko.app
SUMMARY:Smithi Bazkaria eta afaria 25 pertsona
DESCRIPTION:
URL:https://untzilla.txoko.app/event/smithi-bazkaria-eta-afaria-25-pertsona/
END:VEVENT
BEGIN:VEVENT
DTSTART;TZID=UTC:20230113T200000
DTEND;TZID=UTC:20230113T233000
DTSTAMP:20260420T025106
CREATED:20230111T211022Z
LAST-MODIFIED:20230111T211022Z
UID:1550-1673640000-1673652600@untzilla.txoko.app
SUMMARY:ibon lasuen afaixe
DESCRIPTION:Afaixe 8 pertsona
URL:https://untzilla.txoko.app/event/ibon-lasuen-afaixe-2/
END:VEVENT
BEGIN:VEVENT
DTSTART;TZID=UTC:20230107T130000
DTEND;TZID=UTC:20230107T180000
DTSTAMP:20260420T025106
CREATED:20230106T113903Z
LAST-MODIFIED:20230106T113903Z
UID:1545-1673096400-1673114400@untzilla.txoko.app
SUMMARY:Jesús Fernández Bazkaria 10 lagun
DESCRIPTION:
URL:https://untzilla.txoko.app/event/jesus-fernandez-bazkaria-10-lagun/
END:VEVENT
BEGIN:VEVENT
DTSTART;VALUE=DATE:20230106
DTEND;VALUE=DATE:20230107
DTSTAMP:20260420T025106
CREATED:20221126T143848Z
LAST-MODIFIED:20221126T143848Z
UID:1480-1672963200-1673049599@untzilla.txoko.app
SUMMARY:Odile bazkaria 25 lagun
DESCRIPTION:
URL:https://untzilla.txoko.app/event/odile-bazkaria-25-lagun/
END:VEVENT
BEGIN:VEVENT
DTSTART;TZID=UTC:20230105T200000
DTEND;TZID=UTC:20230106T033000
DTSTAMP:20260420T025106
CREATED:20230105T164617Z
LAST-MODIFIED:20230105T164617Z
UID:1542-1672948800-1672975800@untzilla.txoko.app
SUMMARY:Jesus Fdez Afaria 10 lagun
DESCRIPTION:
URL:https://untzilla.txoko.app/event/jesus-fdez-afaria-10-lagun/
END:VEVENT
BEGIN:VEVENT
DTSTART;TZID=UTC:20230101T080000
DTEND;TZID=UTC:20230101T080000
DTSTAMP:20260420T025106
CREATED:20221126T105500Z
LAST-MODIFIED:20221221T104126Z
UID:1476-1672560000-1672560000@untzilla.txoko.app
SUMMARY:Bazkaria 30 lagun Zarra
DESCRIPTION:
URL:https://untzilla.txoko.app/event/bazkaria-15-lagun-zarra/
END:VEVENT
BEGIN:VEVENT
DTSTART;TZID=UTC:20221231T153000
DTEND;TZID=UTC:20221231T233000
DTSTAMP:20260420T025106
CREATED:20221126T204024Z
LAST-MODIFIED:20221126T204024Z
UID:1482-1672500600-1672529400@untzilla.txoko.app
SUMMARY:A. Berrizbeitia - 30 lagun
DESCRIPTION:A. Berrizbeitia \n30 lagun-afaria \nabenduak 31
URL:https://untzilla.txoko.app/event/a-berrizbeitia-30-lagun/
END:VEVENT
BEGIN:VEVENT
DTSTART;TZID=UTC:20221230T080000
DTEND;TZID=UTC:20221230T200000
DTSTAMP:20260420T025106
CREATED:20221125T123026Z
LAST-MODIFIED:20221125T123026Z
UID:1474-1672387200-1672430400@untzilla.txoko.app
SUMMARY:Abenduak 30 bazkaria Manda
DESCRIPTION:
URL:https://untzilla.txoko.app/event/abenduak-30-bazkaria-manda/
END:VEVENT
BEGIN:VEVENT
DTSTART;TZID=UTC:20221228T190000
DTEND;TZID=UTC:20221228T233000
DTSTAMP:20260420T025106
CREATED:20221228T130619Z
LAST-MODIFIED:20221228T130619Z
UID:1532-1672254000-1672270200@untzilla.txoko.app
SUMMARY:Afaria 16 lagun abenduak 28Joseba goxencia
DESCRIPTION:
URL:https://untzilla.txoko.app/event/afaria-16-lagun-abenduak-28joseba-goxencia/
END:VEVENT
BEGIN:VEVENT
DTSTART;TZID=UTC:20221227T193000
DTEND;TZID=UTC:20221228T020000
DTSTAMP:20260420T025106
CREATED:20221227T135243Z
LAST-MODIFIED:20221227T135243Z
UID:1530-1672169400-1672192800@untzilla.txoko.app
SUMMARY:Jesus Fernandez afaria 12 lagun
DESCRIPTION:
URL:https://untzilla.txoko.app/event/jesus-fernandez-afaria-12-lagun/
END:VEVENT
BEGIN:VEVENT
DTSTART;VALUE=DATE:20221225
DTEND;VALUE=DATE:20221226
DTSTAMP:20260420T025106
CREATED:20221126T143403Z
LAST-MODIFIED:20221126T143403Z
UID:1478-1671926400-1672012799@untzilla.txoko.app
SUMMARY:Odile bazkaria 20 lagun
DESCRIPTION:
URL:https://untzilla.txoko.app/event/odile-bazkaria-20-lagun/
END:VEVENT
BEGIN:VEVENT
DTSTART;TZID=UTC:20221224T180000
DTEND;TZID=UTC:20221225T010000
DTSTAMP:20260420T025106
CREATED:20221120T114336Z
LAST-MODIFIED:20221120T114336Z
UID:1465-1671904800-1671930000@untzilla.txoko.app
SUMMARY:Zarra afaria
DESCRIPTION:neguko jaietako afaria 13 lagun
URL:https://untzilla.txoko.app/event/zarra-afaria/
END:VEVENT
BEGIN:VEVENT
DTSTART;TZID=UTC:20221223T143000
DTEND;TZID=UTC:20221223T193000
DTSTAMP:20260420T025106
CREATED:20221220T100905Z
LAST-MODIFIED:20221220T101232Z
UID:1514-1671805800-1671823800@untzilla.txoko.app
SUMMARY:Abenduak 23\, Jesus F 6 lagun\,bazkaria
DESCRIPTION:
URL:https://untzilla.txoko.app/event/abenduak-23-jesus-f-6-lagun-bazkaris/
END:VEVENT
BEGIN:VEVENT
DTSTART;TZID=UTC:20221223T080000
DTEND;TZID=UTC:20221223T200000
DTSTAMP:20260420T025106
CREATED:20221110T092504Z
LAST-MODIFIED:20221110T092504Z
UID:1428-1671782400-1671825600@untzilla.txoko.app
SUMMARY:Manda bazkaria 30 lagun
DESCRIPTION:
URL:https://untzilla.txoko.app/event/manda-bazkaria-30-lagun/
END:VEVENT
BEGIN:VEVENT
DTSTART;TZID=UTC:20221222T080000
DTEND;TZID=UTC:20221222T170000
DTSTAMP:20260420T025106
CREATED:20221202T175859Z
LAST-MODIFIED:20221202T175859Z
UID:1487-1671696000-1671728400@untzilla.txoko.app
SUMMARY:Bazkaria zarra
DESCRIPTION:Bazkaria 3 lagun
URL:https://untzilla.txoko.app/event/bazkaria-zarra/
END:VEVENT
BEGIN:VEVENT
DTSTART;TZID=UTC:20221218T080000
DTEND;TZID=UTC:20221218T200000
DTSTAMP:20260420T025106
CREATED:20221215T173116Z
LAST-MODIFIED:20221215T173116Z
UID:1511-1671350400-1671393600@untzilla.txoko.app
SUMMARY:Manda bazkaria 6 lagun
DESCRIPTION:
URL:https://untzilla.txoko.app/event/manda-bazkaria-6-lagun-3/
END:VEVENT
BEGIN:VEVENT
DTSTART;TZID=UTC:20221215T193000
DTEND;TZID=UTC:20221215T230000
DTSTAMP:20260420T025106
CREATED:20221214T232403Z
LAST-MODIFIED:20221214T232403Z
UID:1509-1671132600-1671145200@untzilla.txoko.app
SUMMARY:Afaria pello baños
DESCRIPTION:Afaria – cena \n10 lagun
URL:https://untzilla.txoko.app/event/afaria-pello-banos/
END:VEVENT
BEGIN:VEVENT
DTSTART;TZID=UTC:20221210T080000
DTEND;TZID=UTC:20221210T170000
DTSTAMP:20260420T025106
CREATED:20221209T194153Z
LAST-MODIFIED:20221209T194153Z
UID:1505-1670659200-1670691600@untzilla.txoko.app
SUMMARY:ibon lasuen bazkaixe
DESCRIPTION:COMIDA 8 PERSONAS IBON LASUEN
URL:https://untzilla.txoko.app/event/ibon-lasuen-bazkaixe/
END:VEVENT
BEGIN:VEVENT
DTSTART;TZID=UTC:20221209T080000
DTEND;TZID=UTC:20221209T170000
DTSTAMP:20260420T025106
CREATED:20221205T210605Z
LAST-MODIFIED:20221205T210605Z
UID:1498-1670572800-1670605200@untzilla.txoko.app
SUMMARY:afaixe ibon lasuen
DESCRIPTION:afaria 8 lagun
URL:https://untzilla.txoko.app/event/afaixe-ibon-lasuen/
END:VEVENT
BEGIN:VEVENT
DTSTART;TZID=UTC:20221207T080000
DTEND;TZID=UTC:20221207T170000
DTSTAMP:20260420T025106
CREATED:20221204T103059Z
LAST-MODIFIED:20221204T103059Z
UID:1493-1670400000-1670432400@untzilla.txoko.app
SUMMARY:Lorenzo bazkaria 15 pertsona
DESCRIPTION:
URL:https://untzilla.txoko.app/event/lorenzo-bazkaria-15-pertsona/
END:VEVENT
BEGIN:VEVENT
DTSTART;TZID=UTC:20221207T080000
DTEND;TZID=UTC:20221207T170000
DTSTAMP:20260420T025106
CREATED:20221204T101528Z
LAST-MODIFIED:20221204T101528Z
UID:1491-1670400000-1670432400@untzilla.txoko.app
SUMMARY:Aitor bazkaria 4
DESCRIPTION:Asadorea
URL:https://untzilla.txoko.app/event/aitor-bazkaria-4-2/
END:VEVENT
BEGIN:VEVENT
DTSTART;TZID=UTC:20221205T080000
DTEND;TZID=UTC:20221205T170000
DTSTAMP:20260420T025106
CREATED:20221119T214606Z
LAST-MODIFIED:20221119T214606Z
UID:1461-1670227200-1670259600@untzilla.txoko.app
SUMMARY:Patricia bazkaria
DESCRIPTION:bazkaria 7 lagun
URL:https://untzilla.txoko.app/event/patricia-bazkaria/
END:VEVENT
BEGIN:VEVENT
DTSTART;TZID=UTC:20221203T080000
DTEND;TZID=UTC:20221203T170000
DTSTAMP:20260420T025106
CREATED:20221110T195046Z
LAST-MODIFIED:20221110T195046Z
UID:1431-1670054400-1670086800@untzilla.txoko.app
SUMMARY:Bazkaria
DESCRIPTION:Bazkaria  16
URL:https://untzilla.txoko.app/event/bazkaria-2/
END:VEVENT
BEGIN:VEVENT
DTSTART;TZID=UTC:20221201T080000
DTEND;TZID=UTC:20221201T170000
DTSTAMP:20260420T025106
CREATED:20221121T143442Z
LAST-MODIFIED:20221121T143442Z
UID:1469-1669881600-1669914000@untzilla.txoko.app
SUMMARY:Marifran bazkaria
DESCRIPTION:Bazkaria 7 lagun
URL:https://untzilla.txoko.app/event/marifran-bazkaria-4/
END:VEVENT
BEGIN:VEVENT
DTSTART;TZID=UTC:20221130T080000
DTEND;TZID=UTC:20221130T170000
DTSTAMP:20260420T025106
CREATED:20221117T145208Z
LAST-MODIFIED:20221117T145208Z
UID:1457-1669795200-1669827600@untzilla.txoko.app
SUMMARY:Paul Baños Onaindia
DESCRIPTION:Comida 30 noviembre\, 15 personas.
URL:https://untzilla.txoko.app/event/paul-banos-onaindia/
END:VEVENT
BEGIN:VEVENT
DTSTART;TZID=UTC:20221126T110000
DTEND;TZID=UTC:20221126T203000
DTSTAMP:20260420T025106
CREATED:20221114T211233Z
LAST-MODIFIED:20221114T211300Z
UID:1441-1669460400-1669494600@untzilla.txoko.app
SUMMARY:Marifran\, azaroan 26\, larunbata\, 10 lagun bazkaltzera
DESCRIPTION:Marifran\, 10 lagun bazkaltzera
URL:https://untzilla.txoko.app/event/marifran-azaroan-26-larunbata-10-lagun-bazkaltzera/
END:VEVENT
END:VCALENDAR