BEGIN:VCALENDAR
VERSION:2.0
PRODID:-//Untzilla App - ECPv6.0.4//NONSGML v1.0//EN
CALSCALE:GREGORIAN
METHOD:PUBLISH
X-ORIGINAL-URL:https://untzilla.txoko.app
X-WR-CALDESC:Eventos para Untzilla App
REFRESH-INTERVAL;VALUE=DURATION:PT1H
X-Robots-Tag:noindex
X-PUBLISHED-TTL:PT1H
BEGIN:VTIMEZONE
TZID:UTC
BEGIN:STANDARD
TZOFFSETFROM:+0000
TZOFFSETTO:+0000
TZNAME:UTC
DTSTART:20210101T000000
END:STANDARD
END:VTIMEZONE
BEGIN:VEVENT
DTSTART;TZID=UTC:20211104T190000
DTEND;TZID=UTC:20211104T233000
DTSTAMP:20260421T052740
CREATED:20211103T134811Z
LAST-MODIFIED:20211103T134811Z
UID:797-1636052400-1636068600@untzilla.txoko.app
SUMMARY:Pello - afaria 13 lagun
DESCRIPTION:Pello baños \nafaria – 13 lagun
URL:https://untzilla.txoko.app/event/pello-afaria-13-lagun/
END:VEVENT
BEGIN:VEVENT
DTSTART;TZID=UTC:20211105T080000
DTEND;TZID=UTC:20211105T170000
DTSTAMP:20260421T052740
CREATED:20211102T174321Z
LAST-MODIFIED:20211102T174321Z
UID:790-1636099200-1636131600@untzilla.txoko.app
SUMMARY:Txirri comida el día 5 con 7 personas.
DESCRIPTION:
URL:https://untzilla.txoko.app/event/txirri-comida-el-dia-5-con-7-personas/
END:VEVENT
BEGIN:VEVENT
DTSTART;TZID=UTC:20211105T080000
DTEND;TZID=UTC:20211105T200000
DTSTAMP:20260421T052740
CREATED:20211026T180622Z
LAST-MODIFIED:20211026T180622Z
UID:780-1636099200-1636142400@untzilla.txoko.app
SUMMARY:Manda bazkaria 6 pertsona
DESCRIPTION:
URL:https://untzilla.txoko.app/event/manda-bazkaria-6-pertsona/
END:VEVENT
BEGIN:VEVENT
DTSTART;TZID=UTC:20211106T080000
DTEND;TZID=UTC:20211106T170000
DTSTAMP:20260421T052740
CREATED:20210915T180240Z
LAST-MODIFIED:20210924T131726Z
UID:715-1636185600-1636218000@untzilla.txoko.app
SUMMARY:Endika\, bazkaria 16 lagun
DESCRIPTION:Bazkaria 16 lagun
URL:https://untzilla.txoko.app/event/endika/
END:VEVENT
BEGIN:VEVENT
DTSTART;TZID=UTC:20211113T080000
DTEND;TZID=UTC:20211113T080000
DTSTAMP:20260421T052740
CREATED:20211110T123206Z
LAST-MODIFIED:20211110T123206Z
UID:803-1636790400-1636790400@untzilla.txoko.app
SUMMARY:Juanma afaria 20 pertsona
DESCRIPTION:
URL:https://untzilla.txoko.app/event/juanma-afaria-20-pertsona/
END:VEVENT
BEGIN:VEVENT
DTSTART;TZID=UTC:20211113T110000
DTEND;TZID=UTC:20211113T223000
DTSTAMP:20260421T052740
CREATED:20211018T095548Z
LAST-MODIFIED:20211018T095548Z
UID:774-1636801200-1636842600@untzilla.txoko.app
SUMMARY:Juanma Baños -comida 20 pers
DESCRIPTION:Juanma Baños \n13 de noviembre \ncomida – 20 personas \nerretegia BAI
URL:https://untzilla.txoko.app/event/juanma-banos-comida-20-pers/
END:VEVENT
BEGIN:VEVENT
DTSTART;TZID=UTC:20211120T080000
DTEND;TZID=UTC:20211120T170000
DTSTAMP:20260421T052740
CREATED:20210912T150418Z
LAST-MODIFIED:20211004T164044Z
UID:712-1637395200-1637427600@untzilla.txoko.app
SUMMARY:Bazkaria Endika Zarrabeitia 30 lagun
DESCRIPTION:Bazkaria \n30 lagun
URL:https://untzilla.txoko.app/event/bazkaria-endika-zarrabeitia-20-lagun/
END:VEVENT
BEGIN:VEVENT
DTSTART;TZID=UTC:20211121T120000
DTEND;TZID=UTC:20211121T180000
DTSTAMP:20260421T052740
CREATED:20211116T114234Z
LAST-MODIFIED:20211116T114234Z
UID:811-1637496000-1637517600@untzilla.txoko.app
SUMMARY:Bazkaria 15 pertsona
DESCRIPTION:
URL:https://untzilla.txoko.app/event/bazkaria-15-pertsona/
END:VEVENT
BEGIN:VEVENT
DTSTART;TZID=UTC:20211125T193000
DTEND;TZID=UTC:20211125T233000
DTSTAMP:20260421T052740
CREATED:20211122T083047Z
LAST-MODIFIED:20211122T083047Z
UID:825-1637868600-1637883000@untzilla.txoko.app
SUMMARY:Pello Afaria -13 lagun
DESCRIPTION:Pello baños \nafaria-13 lagun
URL:https://untzilla.txoko.app/event/pello-afaria-13-lagun-2/
END:VEVENT
BEGIN:VEVENT
DTSTART;TZID=UTC:20211127T200000
DTEND;TZID=UTC:20211127T200000
DTSTAMP:20260421T052740
CREATED:20211127T135247Z
LAST-MODIFIED:20211127T135247Z
UID:846-1638043200-1638043200@untzilla.txoko.app
SUMMARY:Jesús Fdez
DESCRIPTION:Afaria 6 lagun
URL:https://untzilla.txoko.app/event/jesus-fdez-8/
END:VEVENT
BEGIN:VEVENT
DTSTART;TZID=UTC:20211128T080000
DTEND;TZID=UTC:20211128T170000
DTSTAMP:20260421T052740
CREATED:20211120T140429Z
LAST-MODIFIED:20211121T200222Z
UID:822-1638086400-1638118800@untzilla.txoko.app
SUMMARY:Odile bazkaria\, 12 lagun
DESCRIPTION:Odile bazkaria\, 12 lagun \nOdile comida 12 personas
URL:https://untzilla.txoko.app/event/odile-bazkaria-10-lagun/
END:VEVENT
BEGIN:VEVENT
DTSTART;TZID=UTC:20211201T110000
DTEND;TZID=UTC:20211201T210000
DTSTAMP:20260421T052740
CREATED:20221121T141246Z
LAST-MODIFIED:20221121T141246Z
UID:1467-1638356400-1638392400@untzilla.txoko.app
SUMMARY:Marifran - Bazkaria - 7 pertsona
DESCRIPTION:Marifran – Bazkaria – 7 pertsona
URL:https://untzilla.txoko.app/event/marifran-bazkaria-7-pertsona/
END:VEVENT
BEGIN:VEVENT
DTSTART;TZID=UTC:20211204T080000
DTEND;TZID=UTC:20211204T200000
DTSTAMP:20260421T052740
CREATED:20211123T163937Z
LAST-MODIFIED:20211123T163937Z
UID:827-1638604800-1638648000@untzilla.txoko.app
SUMMARY:Manda bazkaria 12 lagun
DESCRIPTION:
URL:https://untzilla.txoko.app/event/manda-bazkaria-12-lagun/
END:VEVENT
BEGIN:VEVENT
DTSTART;TZID=UTC:20211208T080000
DTEND;TZID=UTC:20211208T170000
DTSTAMP:20260421T052740
CREATED:20211203T201948Z
LAST-MODIFIED:20211203T201948Z
UID:854-1638950400-1638982800@untzilla.txoko.app
SUMMARY:Aitor bazkaria 12 lagun
DESCRIPTION:Asadores erabiliko dugu
URL:https://untzilla.txoko.app/event/aitor-bazkaria-12-lagun-2/
END:VEVENT
BEGIN:VEVENT
DTSTART;TZID=UTC:20211211T080000
DTEND;TZID=UTC:20211211T170000
DTSTAMP:20260421T052740
CREATED:20211005T202208Z
LAST-MODIFIED:20211005T202208Z
UID:755-1639209600-1639242000@untzilla.txoko.app
SUMMARY:aitor bazkaria 12 lagun
DESCRIPTION:
URL:https://untzilla.txoko.app/event/aitor-bazkaria-12-lagun/
END:VEVENT
BEGIN:VEVENT
DTSTART;TZID=UTC:20211218T100000
DTEND;TZID=UTC:20211218T200000
DTSTAMP:20260421T052740
CREATED:20211126T151003Z
LAST-MODIFIED:20211126T151003Z
UID:832-1639821600-1639857600@untzilla.txoko.app
SUMMARY:Marifran - bazkaria
DESCRIPTION:10 persona bazkaltzera
URL:https://untzilla.txoko.app/event/marifran-bazkaria-2/
END:VEVENT
BEGIN:VEVENT
DTSTART;TZID=UTC:20211224T180000
DTEND;TZID=UTC:20211224T200000
DTSTAMP:20260421T052740
CREATED:20211218T164858Z
LAST-MODIFIED:20211218T164858Z
UID:871-1640368800-1640376000@untzilla.txoko.app
SUMMARY:Pello baños-merixenda
DESCRIPTION:Pello baños \n15 lagun \n18:00-20:00 \neratekue bakarrik
URL:https://untzilla.txoko.app/event/pello-banos-merixenda/
END:VEVENT
BEGIN:VEVENT
DTSTART;TZID=UTC:20220102T080000
DTEND;TZID=UTC:20220102T170000
DTSTAMP:20260421T052740
CREATED:20211216T162435Z
LAST-MODIFIED:20211216T162435Z
UID:863-1641110400-1641142800@untzilla.txoko.app
SUMMARY:aitor bazkaria 14 lagun
DESCRIPTION:
URL:https://untzilla.txoko.app/event/aitor-bazkaria-14-lagun/
END:VEVENT
BEGIN:VEVENT
DTSTART;VALUE=DATE:20220105
DTEND;VALUE=DATE:20220106
DTSTAMP:20260421T052740
CREATED:20211217T202840Z
LAST-MODIFIED:20211217T202840Z
UID:866-1641340800-1641427199@untzilla.txoko.app
SUMMARY:Paul Baños
DESCRIPTION:15 persona/ 15 personas
URL:https://untzilla.txoko.app/event/paul-banos-5/
END:VEVENT
BEGIN:VEVENT
DTSTART;TZID=UTC:20220106T080000
DTEND;TZID=UTC:20220106T080000
DTSTAMP:20260421T052740
CREATED:20211117T111621Z
LAST-MODIFIED:20211117T112855Z
UID:814-1641456000-1641456000@untzilla.txoko.app
SUMMARY:Bazkaria\, Odile (20 pertsona)
DESCRIPTION:Urtarrilaren 6an\, bazkaria 20 pertsona. \n6 de Enero\, comida de 20 personas.
URL:https://untzilla.txoko.app/event/bazkaria-odile-20-pertsona/
END:VEVENT
BEGIN:VEVENT
DTSTART;TZID=UTC:20220108T100000
DTEND;TZID=UTC:20220108T200000
DTSTAMP:20260421T052740
CREATED:20211126T151224Z
LAST-MODIFIED:20211126T151224Z
UID:836-1641636000-1641672000@untzilla.txoko.app
SUMMARY:Marifran - bazkaria
DESCRIPTION:Bazkaria 10 lagun
URL:https://untzilla.txoko.app/event/marifran-bazkaria-3/
END:VEVENT
BEGIN:VEVENT
DTSTART;TZID=UTC:20220113T190000
DTEND;TZID=UTC:20220113T233000
DTSTAMP:20260421T052740
CREATED:20220113T152848Z
LAST-MODIFIED:20220113T152848Z
UID:886-1642100400-1642116600@untzilla.txoko.app
SUMMARY:Afaria 12 lagun
DESCRIPTION:Pello baños \nafaria- 12 lagun
URL:https://untzilla.txoko.app/event/afaria-12-lagun/
END:VEVENT
BEGIN:VEVENT
DTSTART;TZID=UTC:20220116T100000
DTEND;TZID=UTC:20220116T203000
DTSTAMP:20260421T052740
CREATED:20220115T092819Z
LAST-MODIFIED:20220115T092819Z
UID:888-1642327200-1642365000@untzilla.txoko.app
SUMMARY:Marifran - bazkaria - 8 lagun
DESCRIPTION:Bazkaria – 8 lagun
URL:https://untzilla.txoko.app/event/marifran-bazkaria-8-lagun/
END:VEVENT
BEGIN:VEVENT
DTSTART;TZID=UTC:20220122T080000
DTEND;TZID=UTC:20220122T170000
DTSTAMP:20260421T052740
CREATED:20211217T230254Z
LAST-MODIFIED:20211217T230254Z
UID:869-1642838400-1642870800@untzilla.txoko.app
SUMMARY:juanma bazkaria 25 lagun
DESCRIPTION:
URL:https://untzilla.txoko.app/event/juanma-bazkaria-25-lagun/
END:VEVENT
BEGIN:VEVENT
DTSTART;TZID=UTC:20220129T080000
DTEND;TZID=UTC:20220129T170000
DTSTAMP:20260421T052740
CREATED:20211211T085535Z
LAST-MODIFIED:20211211T085535Z
UID:858-1643443200-1643475600@untzilla.txoko.app
SUMMARY:Txarli bazkaria. 30 pertsona
DESCRIPTION:
URL:https://untzilla.txoko.app/event/txarli-bazkaria-30-pertsona/
END:VEVENT
BEGIN:VEVENT
DTSTART;VALUE=DATE:20220203
DTEND;VALUE=DATE:20220204
DTSTAMP:20260421T052740
CREATED:20220122T133156Z
LAST-MODIFIED:20220122T133156Z
UID:892-1643846400-1643932799@untzilla.txoko.app
SUMMARY:Joseba goxencia
DESCRIPTION:Bazkaria otsailak 3 20 pertsona
URL:https://untzilla.txoko.app/event/joseba-goxencia-2/
END:VEVENT
BEGIN:VEVENT
DTSTART;VALUE=DATE:20220205
DTEND;VALUE=DATE:20220206
DTSTAMP:20260421T052740
CREATED:20220110T182056Z
LAST-MODIFIED:20220110T182056Z
UID:876-1644019200-1644105599@untzilla.txoko.app
SUMMARY:
DESCRIPTION:Paul Baños bazkaria eta afaria. 15 pertsona
URL:https://untzilla.txoko.app/event/876/
END:VEVENT
BEGIN:VEVENT
DTSTART;VALUE=DATE:20220205
DTEND;VALUE=DATE:20220206
DTSTAMP:20260421T052740
CREATED:20220110T182720Z
LAST-MODIFIED:20220110T182720Z
UID:881-1644019200-1644105599@untzilla.txoko.app
SUMMARY:Paul Baños
DESCRIPTION:Paul Baños \nBazkaria eta afaria 15 pertsona \n  \n  \n 
URL:https://untzilla.txoko.app/event/paul-banos-6/
END:VEVENT
BEGIN:VEVENT
DTSTART;TZID=UTC:20220205T080000
DTEND;TZID=UTC:20220205T170000
DTSTAMP:20260421T052740
CREATED:20220203T153700Z
LAST-MODIFIED:20220203T153700Z
UID:907-1644048000-1644080400@untzilla.txoko.app
SUMMARY:Jesus Fernandez
DESCRIPTION:Bazkaria 8 lagun.
URL:https://untzilla.txoko.app/event/jesus-fernandez-3/
END:VEVENT
BEGIN:VEVENT
DTSTART;TZID=UTC:20220219T120000
DTEND;TZID=UTC:20220219T213000
DTSTAMP:20260421T052740
CREATED:20220212T131153Z
LAST-MODIFIED:20220212T131153Z
UID:919-1645272000-1645306200@untzilla.txoko.app
SUMMARY:Josu abasolo
DESCRIPTION:Comida  25 personas
URL:https://untzilla.txoko.app/event/josu-abasolo/
END:VEVENT
END:VCALENDAR