BEGIN:VCALENDAR
VERSION:2.0
PRODID:-//Untzilla App - ECPv6.0.4//NONSGML v1.0//EN
CALSCALE:GREGORIAN
METHOD:PUBLISH
X-WR-CALNAME:Untzilla App
X-ORIGINAL-URL:https://untzilla.txoko.app
X-WR-CALDESC:Eventos para Untzilla App
REFRESH-INTERVAL;VALUE=DURATION:PT1H
X-Robots-Tag:noindex
X-PUBLISHED-TTL:PT1H
BEGIN:VTIMEZONE
TZID:UTC
BEGIN:STANDARD
TZOFFSETFROM:+0000
TZOFFSETTO:+0000
TZNAME:UTC
DTSTART:20230101T000000
END:STANDARD
END:VTIMEZONE
BEGIN:VEVENT
DTSTART;TZID=UTC:20230617T113000
DTEND;TZID=UTC:20230617T180000
DTSTAMP:20260419T225946
CREATED:20230530T115135Z
LAST-MODIFIED:20230530T115135Z
UID:1667-1687001400-1687024800@untzilla.txoko.app
SUMMARY:Bazkaria 15 lagun Antxon Berrizbeitia
DESCRIPTION:
URL:https://untzilla.txoko.app/event/bazkaria-15-lagun-antxon-berrizbeitia/
END:VEVENT
BEGIN:VEVENT
DTSTART;TZID=UTC:20230617T180000
DTEND;TZID=UTC:20230617T233000
DTSTAMP:20260419T225946
CREATED:20230530T115322Z
LAST-MODIFIED:20230530T115322Z
UID:1669-1687024800-1687044600@untzilla.txoko.app
SUMMARY:Afaria 15 lagun Antxon Berrizbeitia
DESCRIPTION:
URL:https://untzilla.txoko.app/event/afaria-15-lagun-antxon-berrizbeitia/
END:VEVENT
BEGIN:VEVENT
DTSTART;TZID=UTC:20230618T113000
DTEND;TZID=UTC:20230618T170000
DTSTAMP:20260419T225946
CREATED:20230615T104912Z
LAST-MODIFIED:20230615T104912Z
UID:1677-1687087800-1687107600@untzilla.txoko.app
SUMMARY:
DESCRIPTION:Bazkaria ekainak 18\, 8 lagun Mari Franen ixenien.\nComida domingo 18 de junio para 8 personas a nombre de Mari Fran
URL:https://untzilla.txoko.app/event/1677/
END:VEVENT
BEGIN:VEVENT
DTSTART;TZID=UTC:20230618T113000
DTEND;TZID=UTC:20230618T200000
DTSTAMP:20260419T225946
CREATED:20230615T105023Z
LAST-MODIFIED:20230615T150605Z
UID:1679-1687087800-1687118400@untzilla.txoko.app
SUMMARY:Bazkaria domeka ekainak 18\, zortzi lagun.  Mari Fran
DESCRIPTION:
URL:https://untzilla.txoko.app/event/bazkaria-domeka-ekainak-18-zortzi-lagun-mari-fran/
END:VEVENT
BEGIN:VEVENT
DTSTART;TZID=UTC:20230624T080000
DTEND;TZID=UTC:20230624T170000
DTSTAMP:20260419T225946
CREATED:20230529T110958Z
LAST-MODIFIED:20230622T155614Z
UID:1662-1687593600-1687626000@untzilla.txoko.app
SUMMARY:Bazkaria 9 lagun
DESCRIPTION:Bazkaria 9 lagun
URL:https://untzilla.txoko.app/event/bazkaria-14-lagun/
END:VEVENT
BEGIN:VEVENT
DTSTART;TZID=UTC:20230709T193000
DTEND;TZID=UTC:20230710T010000
DTSTAMP:20260419T225946
CREATED:20230709T171446Z
LAST-MODIFIED:20230709T171446Z
UID:1727-1688931000-1688950800@untzilla.txoko.app
SUMMARY:Jesus Fdez
DESCRIPTION:Afaria 12 lagun
URL:https://untzilla.txoko.app/event/jesus-fdez-9/
END:VEVENT
BEGIN:VEVENT
DTSTART;TZID=UTC:20230714T080000
DTEND;TZID=UTC:20230714T170000
DTSTAMP:20260419T225946
CREATED:20230704T113938Z
LAST-MODIFIED:20230704T113938Z
UID:1717-1689321600-1689354000@untzilla.txoko.app
SUMMARY:Uztailak 14 8 lagun bazkaltzeko
DESCRIPTION:
URL:https://untzilla.txoko.app/event/uztailak-14-8-lagun-bazkaltzeko/
ORGANIZER;CN="Cengotitabengoa":MAILTO:cengo531@gmail.com
END:VEVENT
BEGIN:VEVENT
DTSTART;TZID=UTC:20230715T080000
DTEND;TZID=UTC:20230715T210000
DTSTAMP:20260419T225946
CREATED:20230621T173713Z
LAST-MODIFIED:20230621T173713Z
UID:1698-1689408000-1689454800@untzilla.txoko.app
SUMMARY:Manda bazkaria 8 lagun
DESCRIPTION:
URL:https://untzilla.txoko.app/event/manda-bazkaria-8-lagun-2/
END:VEVENT
BEGIN:VEVENT
DTSTART;TZID=UTC:20230716T080000
DTEND;TZID=UTC:20230716T170000
DTSTAMP:20260419T225946
CREATED:20230619T153411Z
LAST-MODIFIED:20230619T153411Z
UID:1688-1689494400-1689526800@untzilla.txoko.app
SUMMARY:Gastelu- 8 lagun- 16-7
DESCRIPTION:Bazkaria 8 lagun. 16 de julio
URL:https://untzilla.txoko.app/event/gastelu-8-lagun-16-7/
END:VEVENT
BEGIN:VEVENT
DTSTART;TZID=UTC:20230719T130000
DTEND;TZID=UTC:20230719T193000
DTSTAMP:20260419T225946
CREATED:20230707T103545Z
LAST-MODIFIED:20230707T103545Z
UID:1725-1689771600-1689795000@untzilla.txoko.app
SUMMARY:Bazkaria Antxon Uztailak 19 Julio (10 lagun)
DESCRIPTION:
URL:https://untzilla.txoko.app/event/bazkaria-antxon-uztailak-19-julio-10-lagun/
END:VEVENT
BEGIN:VEVENT
DTSTART;TZID=UTC:20230720T080000
DTEND;TZID=UTC:20230720T210000
DTSTAMP:20260419T225946
CREATED:20230707T084523Z
LAST-MODIFIED:20230707T084523Z
UID:1723-1689840000-1689886800@untzilla.txoko.app
SUMMARY:Manda bazkaria 12 lagun
DESCRIPTION:
URL:https://untzilla.txoko.app/event/manda-bazkaria-12-lagun-3/
END:VEVENT
BEGIN:VEVENT
DTSTART;TZID=UTC:20230727T080000
DTEND;TZID=UTC:20230727T170000
DTSTAMP:20260419T225946
CREATED:20230727T135322Z
LAST-MODIFIED:20230727T135322Z
UID:1745-1690444800-1690477200@untzilla.txoko.app
SUMMARY:
DESCRIPTION:BAZKARIA ROMÁN \nUztailak 29 Julio \n8 lagun
URL:https://untzilla.txoko.app/event/1745/
END:VEVENT
BEGIN:VEVENT
DTSTART;TZID=UTC:20230812T080000
DTEND;TZID=UTC:20230812T170000
DTSTAMP:20260419T225946
CREATED:20230718T110600Z
LAST-MODIFIED:20230718T110600Z
UID:1732-1691827200-1691859600@untzilla.txoko.app
SUMMARY:Aitor bazkaria 20 lagun
DESCRIPTION:Asadorea
URL:https://untzilla.txoko.app/event/aitor-bazkaria-20-lagun-2/
END:VEVENT
BEGIN:VEVENT
DTSTART;TZID=UTC:20230821T193000
DTEND;TZID=UTC:20230822T020000
DTSTAMP:20260419T225946
CREATED:20230821T140437Z
LAST-MODIFIED:20230821T140437Z
UID:1754-1692646200-1692669600@untzilla.txoko.app
SUMMARY:Jesus Fdz Afaria
DESCRIPTION:Afaria 12 lagun
URL:https://untzilla.txoko.app/event/jesus-fdz-afaria-2/
END:VEVENT
BEGIN:VEVENT
DTSTART;TZID=UTC:20230830T110000
DTEND;TZID=UTC:20230830T170000
DTSTAMP:20260419T225946
CREATED:20230821T141044Z
LAST-MODIFIED:20230821T141044Z
UID:1756-1693393200-1693414800@untzilla.txoko.app
SUMMARY:Janaria abustuak 30. 15 lagun Joseba
DESCRIPTION:
URL:https://untzilla.txoko.app/event/janaria-abustuak-30-15-lagun-joseba/
END:VEVENT
BEGIN:VEVENT
DTSTART;TZID=UTC:20230903T080000
DTEND;TZID=UTC:20230903T170000
DTSTAMP:20260419T225946
CREATED:20230831T204217Z
LAST-MODIFIED:20230831T204217Z
UID:1760-1693728000-1693760400@untzilla.txoko.app
SUMMARY:Irailak 3 bazkaria\, 12 pertsona
DESCRIPTION:
URL:https://untzilla.txoko.app/event/irailak-3-bazkaria-12-pertsona/
END:VEVENT
BEGIN:VEVENT
DTSTART;TZID=UTC:20230907T190000
DTEND;TZID=UTC:20230907T233000
DTSTAMP:20260419T225946
CREATED:20230906T183048Z
LAST-MODIFIED:20230906T183048Z
UID:1769-1694113200-1694129400@untzilla.txoko.app
SUMMARY:Pello baños afaria 12 lagun
DESCRIPTION:Pello baños \nafaria \n12 lagun
URL:https://untzilla.txoko.app/event/pello-banos-afaria-12-lagun/
END:VEVENT
BEGIN:VEVENT
DTSTART;TZID=UTC:20230919T080000
DTEND;TZID=UTC:20230919T170000
DTSTAMP:20260419T225946
CREATED:20230914T102550Z
LAST-MODIFIED:20230914T102550Z
UID:1772-1695110400-1695142800@untzilla.txoko.app
SUMMARY:Aitor bazkaria 15 lagun
DESCRIPTION:
URL:https://untzilla.txoko.app/event/aitor-bazkaria-15-lagun-3/
END:VEVENT
BEGIN:VEVENT
DTSTART;TZID=UTC:20230919T190000
DTEND;TZID=UTC:20230919T233000
DTSTAMP:20260419T225946
CREATED:20230919T162442Z
LAST-MODIFIED:20230919T162442Z
UID:1780-1695150000-1695166200@untzilla.txoko.app
SUMMARY:Cena 6 personas. Josena Goxencia Padre
DESCRIPTION:
URL:https://untzilla.txoko.app/event/cena-6-personas-josena-goxencia-padre/
END:VEVENT
BEGIN:VEVENT
DTSTART;TZID=UTC:20230923T113000
DTEND;TZID=UTC:20230923T220000
DTSTAMP:20260419T225946
CREATED:20230705T162144Z
LAST-MODIFIED:20230916T173245Z
UID:1719-1695468600-1695506400@untzilla.txoko.app
SUMMARY:Marifran - bazkaria - 27 lagun
DESCRIPTION:Marifran – bazkaria – 27 lagun
URL:https://untzilla.txoko.app/event/marifran-bazkaria-27-lagun/
END:VEVENT
BEGIN:VEVENT
DTSTART;TZID=UTC:20230928T183000
DTEND;TZID=UTC:20230928T233000
DTSTAMP:20260419T225946
CREATED:20230926T124658Z
LAST-MODIFIED:20230926T124658Z
UID:1783-1695925800-1695943800@untzilla.txoko.app
SUMMARY:Pello Baños AFARIA
DESCRIPTION:Pello Baños \nAfaria/Cena \n12 pertsona
URL:https://untzilla.txoko.app/event/pello-banos-afaria-4/
END:VEVENT
BEGIN:VEVENT
DTSTART;TZID=UTC:20230930T110000
DTEND;TZID=UTC:20230930T200000
DTSTAMP:20260419T225946
CREATED:20230928T204840Z
LAST-MODIFIED:20230928T205010Z
UID:1785-1696071600-1696104000@untzilla.txoko.app
SUMMARY:Marifran - Iraila 30 - janaria - 7 lagun
DESCRIPTION:Marifran – Iraila 30 – janaria – 7 lagun
URL:https://untzilla.txoko.app/event/marifran-janaria-7-lagun/
END:VEVENT
BEGIN:VEVENT
DTSTART;TZID=UTC:20231024T113000
DTEND;TZID=UTC:20231024T203000
DTSTAMP:20260419T225946
CREATED:20231009T201028Z
LAST-MODIFIED:20231009T201028Z
UID:1794-1698147000-1698179400@untzilla.txoko.app
SUMMARY:Marifran - Urria 24 - janaria - 7 lagun
DESCRIPTION:Marifran – Urria 24 – janaria – 7 lagun
URL:https://untzilla.txoko.app/event/marifran-urria-24-janaria-7-lagun/
END:VEVENT
BEGIN:VEVENT
DTSTART;TZID=UTC:20231028T080000
DTEND;TZID=UTC:20231028T170000
DTSTAMP:20260419T225946
CREATED:20230820T142128Z
LAST-MODIFIED:20230820T142141Z
UID:1750-1698480000-1698512400@untzilla.txoko.app
SUMMARY:Bazkaria 20 lagun
DESCRIPTION:Asadorea
URL:https://untzilla.txoko.app/event/bazkaria-20-lagun/
END:VEVENT
BEGIN:VEVENT
DTSTART;TZID=UTC:20231029T110000
DTEND;TZID=UTC:20231029T210000
DTSTAMP:20260419T225946
CREATED:20231013T121207Z
LAST-MODIFIED:20231016T185051Z
UID:1799-1698577200-1698613200@untzilla.txoko.app
SUMMARY:Marifran - Urria 29 - janaria - 9 lagun
DESCRIPTION:Marifran – Urria 29 – janaria – 9 lagun
URL:https://untzilla.txoko.app/event/marifran-urria-21-janaria-9-lagun/
END:VEVENT
BEGIN:VEVENT
DTSTART;TZID=UTC:20231102T190000
DTEND;TZID=UTC:20231102T233000
DTSTAMP:20260419T225946
CREATED:20231031T140343Z
LAST-MODIFIED:20231031T140343Z
UID:1832-1698951600-1698967800@untzilla.txoko.app
SUMMARY:Pello Baños afaria 13 lagun
DESCRIPTION:Pello Baños \nafaria \n13 lagun
URL:https://untzilla.txoko.app/event/pello-banos-afaria-13-lagun-3/
END:VEVENT
BEGIN:VEVENT
DTSTART;TZID=UTC:20231104T080000
DTEND;TZID=UTC:20231104T170000
DTSTAMP:20260419T225946
CREATED:20230901T221656Z
LAST-MODIFIED:20230901T221656Z
UID:1767-1699084800-1699117200@untzilla.txoko.app
SUMMARY:Zarra
DESCRIPTION:Bazkaria 12 lagun
URL:https://untzilla.txoko.app/event/zarra-4/
END:VEVENT
BEGIN:VEVENT
DTSTART;TZID=UTC:20231104T080000
DTEND;TZID=UTC:20231104T170000
DTSTAMP:20260419T225946
CREATED:20230930T135745Z
LAST-MODIFIED:20230930T135745Z
UID:1789-1699084800-1699117200@untzilla.txoko.app
SUMMARY:Aitor bazkaria 12 lagun
DESCRIPTION:♣
URL:https://untzilla.txoko.app/event/aitor-bazkaria-12-lagun-6/
END:VEVENT
BEGIN:VEVENT
DTSTART;TZID=UTC:20231111T080000
DTEND;TZID=UTC:20231111T170000
DTSTAMP:20260419T225946
CREATED:20230527T191049Z
LAST-MODIFIED:20230527T191049Z
UID:1655-1699689600-1699722000@untzilla.txoko.app
SUMMARY:Bazkaria Zarra
DESCRIPTION:Bazkaria Zarra 25 lagun
URL:https://untzilla.txoko.app/event/bazkaria-zarra-3/
END:VEVENT
BEGIN:VEVENT
DTSTART;TZID=UTC:20231111T173000
DTEND;TZID=UTC:20231111T233000
DTSTAMP:20260419T225946
CREATED:20231108T124922Z
LAST-MODIFIED:20231108T125022Z
UID:1855-1699723800-1699745400@untzilla.txoko.app
SUMMARY:Antxon afaria
DESCRIPTION:
URL:https://untzilla.txoko.app/event/antxon-afaria/
END:VEVENT
END:VCALENDAR