BEGIN:VCALENDAR
VERSION:2.0
PRODID:-//Untzilla App - ECPv6.0.4//NONSGML v1.0//EN
CALSCALE:GREGORIAN
METHOD:PUBLISH
X-WR-CALNAME:Untzilla App
X-ORIGINAL-URL:https://untzilla.txoko.app
X-WR-CALDESC:Eventos para Untzilla App
REFRESH-INTERVAL;VALUE=DURATION:PT1H
X-Robots-Tag:noindex
X-PUBLISHED-TTL:PT1H
BEGIN:VTIMEZONE
TZID:UTC
BEGIN:STANDARD
TZOFFSETFROM:+0000
TZOFFSETTO:+0000
TZNAME:UTC
DTSTART:20220101T000000
END:STANDARD
END:VTIMEZONE
BEGIN:VEVENT
DTSTART;VALUE=DATE:20220205
DTEND;VALUE=DATE:20220206
DTSTAMP:20260420T231739
CREATED:20220110T182056Z
LAST-MODIFIED:20220110T182056Z
UID:876-1644019200-1644105599@untzilla.txoko.app
SUMMARY:
DESCRIPTION:Paul Baños bazkaria eta afaria. 15 pertsona
URL:https://untzilla.txoko.app/event/876/
END:VEVENT
BEGIN:VEVENT
DTSTART;VALUE=DATE:20220205
DTEND;VALUE=DATE:20220206
DTSTAMP:20260420T231739
CREATED:20220110T182720Z
LAST-MODIFIED:20220110T182720Z
UID:881-1644019200-1644105599@untzilla.txoko.app
SUMMARY:Paul Baños
DESCRIPTION:Paul Baños \nBazkaria eta afaria 15 pertsona \n  \n  \n 
URL:https://untzilla.txoko.app/event/paul-banos-6/
END:VEVENT
BEGIN:VEVENT
DTSTART;TZID=UTC:20220205T080000
DTEND;TZID=UTC:20220205T170000
DTSTAMP:20260420T231739
CREATED:20220203T153700Z
LAST-MODIFIED:20220203T153700Z
UID:907-1644048000-1644080400@untzilla.txoko.app
SUMMARY:Jesus Fernandez
DESCRIPTION:Bazkaria 8 lagun.
URL:https://untzilla.txoko.app/event/jesus-fernandez-3/
END:VEVENT
BEGIN:VEVENT
DTSTART;TZID=UTC:20220219T120000
DTEND;TZID=UTC:20220219T213000
DTSTAMP:20260420T231739
CREATED:20220212T131153Z
LAST-MODIFIED:20220212T131153Z
UID:919-1645272000-1645306200@untzilla.txoko.app
SUMMARY:Josu abasolo
DESCRIPTION:Comida  25 personas
URL:https://untzilla.txoko.app/event/josu-abasolo/
END:VEVENT
BEGIN:VEVENT
DTSTART;TZID=UTC:20220220T100000
DTEND;TZID=UTC:20220220T190000
DTSTAMP:20260420T231739
CREATED:20220213T195345Z
LAST-MODIFIED:20220213T195345Z
UID:937-1645351200-1645383600@untzilla.txoko.app
SUMMARY:Roman bazkaria 6lagun
DESCRIPTION:ERRETEGIA
URL:https://untzilla.txoko.app/event/roman-bazkaria-6lagun/
END:VEVENT
BEGIN:VEVENT
DTSTART;TZID=UTC:20220224T190000
DTEND;TZID=UTC:20220224T233000
DTSTAMP:20260420T231739
CREATED:20220224T121914Z
LAST-MODIFIED:20220224T121914Z
UID:963-1645729200-1645745400@untzilla.txoko.app
SUMMARY:Afaria pello 8 perts
DESCRIPTION:Afaria \n8 pertsona \npello baños
URL:https://untzilla.txoko.app/event/afaria-pello-8-perts/
END:VEVENT
BEGIN:VEVENT
DTSTART;TZID=UTC:20220226T080000
DTEND;TZID=UTC:20220226T180000
DTSTAMP:20260420T231739
CREATED:20220206T092907Z
LAST-MODIFIED:20220206T092907Z
UID:909-1645862400-1645898400@untzilla.txoko.app
SUMMARY:Paul Baños
DESCRIPTION:14 pertsona bazkaldu\, 14 personas comida.
URL:https://untzilla.txoko.app/event/paul-banos-7/
END:VEVENT
BEGIN:VEVENT
DTSTART;TZID=UTC:20220227T123000
DTEND;TZID=UTC:20220227T170000
DTSTAMP:20260420T231739
CREATED:20220227T084821Z
LAST-MODIFIED:20220227T084821Z
UID:975-1645965000-1645981200@untzilla.txoko.app
SUMMARY:Comida joseba goxencia
DESCRIPTION:Comida para 12 joseba goxencia
URL:https://untzilla.txoko.app/event/comida-joseba-goxencia/
END:VEVENT
BEGIN:VEVENT
DTSTART;TZID=UTC:20220304T080000
DTEND;TZID=UTC:20220304T200000
DTSTAMP:20260420T231739
CREATED:20220215T140016Z
LAST-MODIFIED:20220215T140016Z
UID:941-1646380800-1646424000@untzilla.txoko.app
SUMMARY:Martxoak 4 Manda bazkaria
DESCRIPTION:Manda bazkaria 6 lagun
URL:https://untzilla.txoko.app/event/martxoak-4-manda-bazkaria/
END:VEVENT
BEGIN:VEVENT
DTSTART;TZID=UTC:20220304T110000
DTEND;TZID=UTC:20220304T170000
DTSTAMP:20260420T231739
CREATED:20220219T115625Z
LAST-MODIFIED:20220219T115625Z
UID:947-1646391600-1646413200@untzilla.txoko.app
SUMMARY:Fernando / bazkaria 7 lagun\,
DESCRIPTION:ERRETEGIA
URL:https://untzilla.txoko.app/event/fernando-bazkaria-7-lagun/
END:VEVENT
BEGIN:VEVENT
DTSTART;TZID=UTC:20220305T080000
DTEND;TZID=UTC:20220305T170000
DTSTAMP:20260420T231739
CREATED:20220210T225401Z
LAST-MODIFIED:20220210T225401Z
UID:917-1646467200-1646499600@untzilla.txoko.app
SUMMARY:aitor bazkaria 10 lagun
DESCRIPTION:bazkaria 10 lagun asadorea erabiliko dugu
URL:https://untzilla.txoko.app/event/aitor-bazkaria-10-lagun/
END:VEVENT
BEGIN:VEVENT
DTSTART;TZID=UTC:20220306T100000
DTEND;TZID=UTC:20220306T200000
DTSTAMP:20260420T231739
CREATED:20220304T120810Z
LAST-MODIFIED:20220304T120810Z
UID:983-1646560800-1646596800@untzilla.txoko.app
SUMMARY:Marifran - bazkaria - 4 lagun
DESCRIPTION:Marifran – bazkaria – 4 lagun
URL:https://untzilla.txoko.app/event/marifran-bazkaria-4-lagun/
END:VEVENT
BEGIN:VEVENT
DTSTART;TZID=UTC:20220313T080000
DTEND;TZID=UTC:20220313T170000
DTSTAMP:20260420T231739
CREATED:20220228T184728Z
LAST-MODIFIED:20220228T184728Z
UID:978-1647158400-1647190800@untzilla.txoko.app
SUMMARY:patxi bazkaria 10 lagun
DESCRIPTION:Asadorea erabiliko dugu
URL:https://untzilla.txoko.app/event/patxi-bazkaria-10-lagun/
END:VEVENT
BEGIN:VEVENT
DTSTART;TZID=UTC:20220317T200000
DTEND;TZID=UTC:20220317T233000
DTSTAMP:20260420T231739
CREATED:20220317T182954Z
LAST-MODIFIED:20220317T182954Z
UID:1012-1647547200-1647559800@untzilla.txoko.app
SUMMARY:Pello baños afaria 10 personas
DESCRIPTION:Pello baños \n10 pertsona \nafaria
URL:https://untzilla.txoko.app/event/pello-banos-afaria-10-personas/
END:VEVENT
BEGIN:VEVENT
DTSTART;TZID=UTC:20220319T080000
DTEND;TZID=UTC:20220319T170000
DTSTAMP:20260420T231739
CREATED:20220224T161513Z
LAST-MODIFIED:20220224T161642Z
UID:965-1647676800-1647709200@untzilla.txoko.app
SUMMARY:Karkun bazkaria 22 pertsona
DESCRIPTION:
URL:https://untzilla.txoko.app/event/karkun-bazkaria/
END:VEVENT
BEGIN:VEVENT
DTSTART;TZID=UTC:20220326T080000
DTEND;TZID=UTC:20220326T170000
DTSTAMP:20260420T231739
CREATED:20220322T064128Z
LAST-MODIFIED:20220322T064128Z
UID:1027-1648281600-1648314000@untzilla.txoko.app
SUMMARY:Bazkaria 4 lagun Paul Baños
DESCRIPTION:Bazkaria 4 lagun Paul Baños
URL:https://untzilla.txoko.app/event/bazkaria-4-lagun-paul-banos/
END:VEVENT
BEGIN:VEVENT
DTSTART;TZID=UTC:20220326T110000
DTEND;TZID=UTC:20220326T200000
DTSTAMP:20260420T231739
CREATED:20220304T121256Z
LAST-MODIFIED:20220322T102507Z
UID:985-1648292400-1648324800@untzilla.txoko.app
SUMMARY:Marifran - bazkaria - 11 lagun
DESCRIPTION:Marifran – bazkaria – 10 lagun
URL:https://untzilla.txoko.app/event/985/
END:VEVENT
BEGIN:VEVENT
DTSTART;TZID=UTC:20220326T113000
DTEND;TZID=UTC:20220326T200000
DTSTAMP:20260420T231739
CREATED:20220310T200627Z
LAST-MODIFIED:20220310T200627Z
UID:995-1648294200-1648324800@untzilla.txoko.app
SUMMARY:A. BERRIZBEITIA EGUREN
DESCRIPTION:BAZKARIA \n8 LAGUN
URL:https://untzilla.txoko.app/event/a-berrizbeitia-eguren/
END:VEVENT
BEGIN:VEVENT
DTSTART;TZID=UTC:20220330T080000
DTEND;TZID=UTC:20220330T170000
DTSTAMP:20260420T231739
CREATED:20220328T142626Z
LAST-MODIFIED:20220328T142853Z
UID:1044-1648627200-1648659600@untzilla.txoko.app
SUMMARY:Odile afaria\, 12 lagun
DESCRIPTION:afaria 12 lagun \ncena 12 personas
URL:https://untzilla.txoko.app/event/odile-afaria/
END:VEVENT
BEGIN:VEVENT
DTSTART;TZID=UTC:20220402T080000
DTEND;TZID=UTC:20220402T170000
DTSTAMP:20260420T231739
CREATED:20220222T120715Z
LAST-MODIFIED:20220222T120715Z
UID:953-1648886400-1648918800@untzilla.txoko.app
SUMMARY:Gastelu (Pontxio) bazkaria 8 lagun
DESCRIPTION:
URL:https://untzilla.txoko.app/event/gastelu-pontxio-bazkaria-8-lagun/
END:VEVENT
BEGIN:VEVENT
DTSTART;TZID=UTC:20220403T080000
DTEND;TZID=UTC:20220403T170000
DTSTAMP:20260420T231739
CREATED:20220401T133000Z
LAST-MODIFIED:20220401T133000Z
UID:1057-1648972800-1649005200@untzilla.txoko.app
SUMMARY:JUANMA  BAÑOS
DESCRIPTION:BAZKARIA 9 PETRTSONA \n 
URL:https://untzilla.txoko.app/event/juanma-banos/
END:VEVENT
BEGIN:VEVENT
DTSTART;TZID=UTC:20220422T160000
DTEND;TZID=UTC:20220422T230000
DTSTAMP:20260420T231739
CREATED:20220420T185413Z
LAST-MODIFIED:20220420T185413Z
UID:1097-1650643200-1650668400@untzilla.txoko.app
SUMMARY:Afari merienda joseba goxencia 25 pertsona
DESCRIPTION:
URL:https://untzilla.txoko.app/event/afari-merienda-joseba-goxencia-25-pertsona/
END:VEVENT
BEGIN:VEVENT
DTSTART;TZID=UTC:20220423T080000
DTEND;TZID=UTC:20220423T170000
DTSTAMP:20260420T231739
CREATED:20220224T191537Z
LAST-MODIFIED:20220224T191537Z
UID:968-1650700800-1650733200@untzilla.txoko.app
SUMMARY:Aitor bazkaria 12 lagun
DESCRIPTION:
URL:https://untzilla.txoko.app/event/aitor-bazkaria-12-lagun-3/
END:VEVENT
BEGIN:VEVENT
DTSTART;VALUE=DATE:20220424
DTEND;VALUE=DATE:20220425
DTSTAMP:20260420T231739
CREATED:20220403T165806Z
LAST-MODIFIED:20220403T170055Z
UID:1065-1650758400-1650844799@untzilla.txoko.app
SUMMARY:Zarra bazkaria eta txokolatada
DESCRIPTION:Bazkaria eta Txokolatada \n15lagun
URL:https://untzilla.txoko.app/event/zarra/
END:VEVENT
BEGIN:VEVENT
DTSTART;TZID=UTC:20220428T080000
DTEND;TZID=UTC:20220428T170000
DTSTAMP:20260420T231739
CREATED:20220416T091010Z
LAST-MODIFIED:20220416T091010Z
UID:1084-1651132800-1651165200@untzilla.txoko.app
SUMMARY:Txirri\, comida 12 personas el 28 de Abril.
DESCRIPTION:12 comensales Txirri.
URL:https://untzilla.txoko.app/event/txirri-comida-12-personas-el-28-de-abril/
END:VEVENT
BEGIN:VEVENT
DTSTART;TZID=UTC:20220428T080000
DTEND;TZID=UTC:20220428T170000
DTSTAMP:20260420T231739
CREATED:20220427T160911Z
LAST-MODIFIED:20220427T160935Z
UID:1105-1651132800-1651165200@untzilla.txoko.app
SUMMARY:Pello baños afaria
DESCRIPTION:Pello baños \nafaria – 13 lagun
URL:https://untzilla.txoko.app/event/pello-banos-afaria-2/
END:VEVENT
BEGIN:VEVENT
DTSTART;TZID=UTC:20220429T200000
DTEND;TZID=UTC:20220429T233000
DTSTAMP:20260420T231739
CREATED:20220403T113543Z
LAST-MODIFIED:20220403T113543Z
UID:1061-1651262400-1651275000@untzilla.txoko.app
SUMMARY:Afaria 30 pertsona joseba goxencia
DESCRIPTION:
URL:https://untzilla.txoko.app/event/afaria-30-pertsona-joseba-goxencia/
END:VEVENT
BEGIN:VEVENT
DTSTART;TZID=UTC:20220430T100000
DTEND;TZID=UTC:20220430T203000
DTSTAMP:20260420T231739
CREATED:20220406T100319Z
LAST-MODIFIED:20220406T100319Z
UID:1071-1651312800-1651350600@untzilla.txoko.app
SUMMARY:Marifran - 10 lagun\, bazkaltzera
DESCRIPTION:Marifran – Bazkaltzera 10 lagun
URL:https://untzilla.txoko.app/event/marifran-10-lagun-bazkaltzera/
END:VEVENT
BEGIN:VEVENT
DTSTART;TZID=UTC:20220430T113000
DTEND;TZID=UTC:20220430T203000
DTSTAMP:20260420T231739
CREATED:20220309T202348Z
LAST-MODIFIED:20220309T202348Z
UID:991-1651318200-1651350600@untzilla.txoko.app
SUMMARY:Pello Baños bazkaria
DESCRIPTION:Pello Baños \nbazkaria – erretegia BAI \n8 lagun
URL:https://untzilla.txoko.app/event/pello-banos-bazkaria-2/
END:VEVENT
BEGIN:VEVENT
DTSTART;TZID=UTC:20220507T120000
DTEND;TZID=UTC:20220507T200000
DTSTAMP:20260420T231739
CREATED:20220409T122352Z
LAST-MODIFIED:20220409T122352Z
UID:1078-1651924800-1651953600@untzilla.txoko.app
SUMMARY:Juanma Baños bazkaria
DESCRIPTION:Juanma Baños bazkaria \n8 pertsona \nerretegia bai
URL:https://untzilla.txoko.app/event/juanma-banos-bazkaria/
END:VEVENT
END:VCALENDAR