BEGIN:VCALENDAR
VERSION:2.0
PRODID:-//Untzilla App - ECPv6.0.4//NONSGML v1.0//EN
CALSCALE:GREGORIAN
METHOD:PUBLISH
X-WR-CALNAME:Untzilla App
X-ORIGINAL-URL:https://untzilla.txoko.app
X-WR-CALDESC:Eventos para Untzilla App
REFRESH-INTERVAL;VALUE=DURATION:PT1H
X-Robots-Tag:noindex
X-PUBLISHED-TTL:PT1H
BEGIN:VTIMEZONE
TZID:UTC
BEGIN:STANDARD
TZOFFSETFROM:+0000
TZOFFSETTO:+0000
TZNAME:UTC
DTSTART:20230101T000000
END:STANDARD
END:VTIMEZONE
BEGIN:VEVENT
DTSTART;TZID=UTC:20230928T183000
DTEND;TZID=UTC:20230928T233000
DTSTAMP:20260419T125908
CREATED:20230926T124658Z
LAST-MODIFIED:20230926T124658Z
UID:1783-1695925800-1695943800@untzilla.txoko.app
SUMMARY:Pello Baños AFARIA
DESCRIPTION:Pello Baños \nAfaria/Cena \n12 pertsona
URL:https://untzilla.txoko.app/event/pello-banos-afaria-4/
END:VEVENT
END:VCALENDAR