BEGIN:VCALENDAR
VERSION:2.0
PRODID:-//Untzilla App - ECPv6.0.4//NONSGML v1.0//EN
CALSCALE:GREGORIAN
METHOD:PUBLISH
X-WR-CALNAME:Untzilla App
X-ORIGINAL-URL:https://untzilla.txoko.app
X-WR-CALDESC:Eventos para Untzilla App
REFRESH-INTERVAL;VALUE=DURATION:PT1H
X-Robots-Tag:noindex
X-PUBLISHED-TTL:PT1H
BEGIN:VTIMEZONE
TZID:UTC
BEGIN:STANDARD
TZOFFSETFROM:+0000
TZOFFSETTO:+0000
TZNAME:UTC
DTSTART:20230101T000000
END:STANDARD
END:VTIMEZONE
BEGIN:VEVENT
DTSTART;TZID=UTC:20230923T113000
DTEND;TZID=UTC:20230923T220000
DTSTAMP:20260419T145235
CREATED:20230705T162144Z
LAST-MODIFIED:20230916T173245Z
UID:1719-1695468600-1695506400@untzilla.txoko.app
SUMMARY:Marifran - bazkaria - 27 lagun
DESCRIPTION:Marifran – bazkaria – 27 lagun
URL:https://untzilla.txoko.app/event/marifran-bazkaria-27-lagun/
END:VEVENT
END:VCALENDAR