BEGIN:VCALENDAR
VERSION:2.0
PRODID:-//Untzilla App - ECPv6.0.4//NONSGML v1.0//EN
CALSCALE:GREGORIAN
METHOD:PUBLISH
X-ORIGINAL-URL:https://untzilla.txoko.app
X-WR-CALDESC:Eventos para Untzilla App
REFRESH-INTERVAL;VALUE=DURATION:PT1H
X-Robots-Tag:noindex
X-PUBLISHED-TTL:PT1H
BEGIN:VTIMEZONE
TZID:UTC
BEGIN:STANDARD
TZOFFSETFROM:+0000
TZOFFSETTO:+0000
TZNAME:UTC
DTSTART:20230101T000000
END:STANDARD
END:VTIMEZONE
BEGIN:VEVENT
DTSTART;TZID=UTC:20230907T190000
DTEND;TZID=UTC:20230907T233000
DTSTAMP:20260419T145324
CREATED:20230906T183048Z
LAST-MODIFIED:20230906T183048Z
UID:1769-1694113200-1694129400@untzilla.txoko.app
SUMMARY:Pello baños afaria 12 lagun
DESCRIPTION:Pello baños \nafaria \n12 lagun
URL:https://untzilla.txoko.app/event/pello-banos-afaria-12-lagun/
END:VEVENT
END:VCALENDAR