BEGIN:VCALENDAR
VERSION:2.0
PRODID:-//Untzilla App - ECPv6.0.4//NONSGML v1.0//EN
CALSCALE:GREGORIAN
METHOD:PUBLISH
X-WR-CALNAME:Untzilla App
X-ORIGINAL-URL:https://untzilla.txoko.app
X-WR-CALDESC:Eventos para Untzilla App
REFRESH-INTERVAL;VALUE=DURATION:PT1H
X-Robots-Tag:noindex
X-PUBLISHED-TTL:PT1H
BEGIN:VTIMEZONE
TZID:UTC
BEGIN:STANDARD
TZOFFSETFROM:+0000
TZOFFSETTO:+0000
TZNAME:UTC
DTSTART:20230101T000000
END:STANDARD
END:VTIMEZONE
BEGIN:VEVENT
DTSTART;TZID=UTC:20230903T080000
DTEND;TZID=UTC:20230903T170000
DTSTAMP:20260419T145234
CREATED:20230831T204217Z
LAST-MODIFIED:20230831T204217Z
UID:1760-1693728000-1693760400@untzilla.txoko.app
SUMMARY:Irailak 3 bazkaria\, 12 pertsona
DESCRIPTION:
URL:https://untzilla.txoko.app/event/irailak-3-bazkaria-12-pertsona/
END:VEVENT
END:VCALENDAR