BEGIN:VCALENDAR
VERSION:2.0
PRODID:-//Untzilla App - ECPv6.0.4//NONSGML v1.0//EN
CALSCALE:GREGORIAN
METHOD:PUBLISH
X-WR-CALNAME:Untzilla App
X-ORIGINAL-URL:https://untzilla.txoko.app
X-WR-CALDESC:Eventos para Untzilla App
REFRESH-INTERVAL;VALUE=DURATION:PT1H
X-Robots-Tag:noindex
X-PUBLISHED-TTL:PT1H
BEGIN:VTIMEZONE
TZID:UTC
BEGIN:STANDARD
TZOFFSETFROM:+0000
TZOFFSETTO:+0000
TZNAME:UTC
DTSTART:20230101T000000
END:STANDARD
END:VTIMEZONE
BEGIN:VEVENT
DTSTART;TZID=UTC:20230719T130000
DTEND;TZID=UTC:20230719T193000
DTSTAMP:20260419T182350
CREATED:20230707T103545Z
LAST-MODIFIED:20230707T103545Z
UID:1725-1689771600-1689795000@untzilla.txoko.app
SUMMARY:Bazkaria Antxon Uztailak 19 Julio (10 lagun)
DESCRIPTION:
URL:https://untzilla.txoko.app/event/bazkaria-antxon-uztailak-19-julio-10-lagun/
END:VEVENT
END:VCALENDAR