BEGIN:VCALENDAR
VERSION:2.0
PRODID:-//Untzilla App - ECPv6.0.4//NONSGML v1.0//EN
CALSCALE:GREGORIAN
METHOD:PUBLISH
X-ORIGINAL-URL:https://untzilla.txoko.app
X-WR-CALDESC:Eventos para Untzilla App
REFRESH-INTERVAL;VALUE=DURATION:PT1H
X-Robots-Tag:noindex
X-PUBLISHED-TTL:PT1H
BEGIN:VTIMEZONE
TZID:UTC
BEGIN:STANDARD
TZOFFSETFROM:+0000
TZOFFSETTO:+0000
TZNAME:UTC
DTSTART:20230101T000000
END:STANDARD
END:VTIMEZONE
BEGIN:VEVENT
DTSTART;TZID=UTC:20230531T190000
DTEND;TZID=UTC:20230531T220000
DTSTAMP:20260419T195300
CREATED:20230529T170745Z
LAST-MODIFIED:20230529T170745Z
UID:1664-1685559600-1685570400@untzilla.txoko.app
SUMMARY:Afaria Manda 8 lagun
DESCRIPTION:
URL:https://untzilla.txoko.app/event/afaria-manda-8-lagun/
END:VEVENT
END:VCALENDAR