BEGIN:VCALENDAR
VERSION:2.0
PRODID:-//Untzilla App - ECPv6.0.4//NONSGML v1.0//EN
CALSCALE:GREGORIAN
METHOD:PUBLISH
X-ORIGINAL-URL:https://untzilla.txoko.app
X-WR-CALDESC:Eventos para Untzilla App
REFRESH-INTERVAL;VALUE=DURATION:PT1H
X-Robots-Tag:noindex
X-PUBLISHED-TTL:PT1H
BEGIN:VTIMEZONE
TZID:UTC
BEGIN:STANDARD
TZOFFSETFROM:+0000
TZOFFSETTO:+0000
TZNAME:UTC
DTSTART:20230101T000000
END:STANDARD
END:VTIMEZONE
BEGIN:VEVENT
DTSTART;TZID=UTC:20230317T170000
DTEND;TZID=UTC:20230317T233000
DTSTAMP:20260420T002847
CREATED:20230310T212942Z
LAST-MODIFIED:20230310T212942Z
UID:1600-1679072400-1679095800@untzilla.txoko.app
SUMMARY:Afaria 15 lgun Joseba Goxencia
DESCRIPTION:
URL:https://untzilla.txoko.app/event/afaria-15-lgun-joseba-goxencia/
END:VEVENT
END:VCALENDAR