BEGIN:VCALENDAR
VERSION:2.0
PRODID:-//Untzilla App - ECPv6.0.4//NONSGML v1.0//EN
CALSCALE:GREGORIAN
METHOD:PUBLISH
X-WR-CALNAME:Untzilla App
X-ORIGINAL-URL:https://untzilla.txoko.app
X-WR-CALDESC:Eventos para Untzilla App
REFRESH-INTERVAL;VALUE=DURATION:PT1H
X-Robots-Tag:noindex
X-PUBLISHED-TTL:PT1H
BEGIN:VTIMEZONE
TZID:UTC
BEGIN:STANDARD
TZOFFSETFROM:+0000
TZOFFSETTO:+0000
TZNAME:UTC
DTSTART:20230101T000000
END:STANDARD
END:VTIMEZONE
BEGIN:VEVENT
DTSTART;VALUE=DATE:20230304
DTEND;VALUE=DATE:20230305
DTSTAMP:20260420T002731
CREATED:20230218T101804Z
LAST-MODIFIED:20230218T101825Z
UID:1581-1677888000-1677974399@untzilla.txoko.app
SUMMARY:Paul Baños
DESCRIPTION:18 pertsona\, 18 personas comida/cena
URL:https://untzilla.txoko.app/event/paul-banos-8/
END:VEVENT
BEGIN:VEVENT
DTSTART;TZID=UTC:20230304T080000
DTEND;TZID=UTC:20230304T170000
DTSTAMP:20260420T002731
CREATED:20230225T212712Z
LAST-MODIFIED:20230225T212712Z
UID:1592-1677916800-1677949200@untzilla.txoko.app
SUMMARY:ibon lasuen
DESCRIPTION:Bazkaria 12-15 pertsona.
URL:https://untzilla.txoko.app/event/ibon-lasuen-3/
END:VEVENT
END:VCALENDAR