BEGIN:VCALENDAR
VERSION:2.0
PRODID:-//Untzilla App - ECPv6.0.4//NONSGML v1.0//EN
CALSCALE:GREGORIAN
METHOD:PUBLISH
X-WR-CALNAME:Untzilla App
X-ORIGINAL-URL:https://untzilla.txoko.app
X-WR-CALDESC:Eventos para Untzilla App
REFRESH-INTERVAL;VALUE=DURATION:PT1H
X-Robots-Tag:noindex
X-PUBLISHED-TTL:PT1H
BEGIN:VTIMEZONE
TZID:UTC
BEGIN:STANDARD
TZOFFSETFROM:+0000
TZOFFSETTO:+0000
TZNAME:UTC
DTSTART:20230101T000000
END:STANDARD
END:VTIMEZONE
BEGIN:VEVENT
DTSTART;TZID=UTC:20230302T080000
DTEND;TZID=UTC:20230302T170000
DTSTAMP:20260420T002732
CREATED:20230222T104817Z
LAST-MODIFIED:20230222T104817Z
UID:1585-1677744000-1677776400@untzilla.txoko.app
SUMMARY:Bazkaria
DESCRIPTION:Jose Ramon \nBazkaria 10 lagun
URL:https://untzilla.txoko.app/event/bazkaria-3/
END:VEVENT
END:VCALENDAR