BEGIN:VCALENDAR
VERSION:2.0
PRODID:-//Untzilla App - ECPv6.0.4//NONSGML v1.0//EN
CALSCALE:GREGORIAN
METHOD:PUBLISH
X-ORIGINAL-URL:https://untzilla.txoko.app
X-WR-CALDESC:Eventos para Untzilla App
REFRESH-INTERVAL;VALUE=DURATION:PT1H
X-Robots-Tag:noindex
X-PUBLISHED-TTL:PT1H
BEGIN:VTIMEZONE
TZID:UTC
BEGIN:STANDARD
TZOFFSETFROM:+0000
TZOFFSETTO:+0000
TZNAME:UTC
DTSTART:20220101T000000
END:STANDARD
END:VTIMEZONE
BEGIN:VEVENT
DTSTART;TZID=UTC:20221126T080000
DTEND;TZID=UTC:20221126T220000
DTSTAMP:20260420T065911
CREATED:20221104T092043Z
LAST-MODIFIED:20221104T092043Z
UID:1411-1669449600-1669500000@untzilla.txoko.app
SUMMARY:Paul Baños Bazkaria
DESCRIPTION:20 Pertsona\, egun osoko bazkaria
URL:https://untzilla.txoko.app/event/paul-banos-bazkaria-2/
END:VEVENT
BEGIN:VEVENT
DTSTART;TZID=UTC:20221126T110000
DTEND;TZID=UTC:20221126T203000
DTSTAMP:20260420T065911
CREATED:20221114T211233Z
LAST-MODIFIED:20221114T211300Z
UID:1441-1669460400-1669494600@untzilla.txoko.app
SUMMARY:Marifran\, azaroan 26\, larunbata\, 10 lagun bazkaltzera
DESCRIPTION:Marifran\, 10 lagun bazkaltzera
URL:https://untzilla.txoko.app/event/marifran-azaroan-26-larunbata-10-lagun-bazkaltzera/
END:VEVENT
END:VCALENDAR