BEGIN:VCALENDAR
VERSION:2.0
PRODID:-//Untzilla App - ECPv6.0.4//NONSGML v1.0//EN
CALSCALE:GREGORIAN
METHOD:PUBLISH
X-WR-CALNAME:Untzilla App
X-ORIGINAL-URL:https://untzilla.txoko.app
X-WR-CALDESC:Eventos para Untzilla App
REFRESH-INTERVAL;VALUE=DURATION:PT1H
X-Robots-Tag:noindex
X-PUBLISHED-TTL:PT1H
BEGIN:VTIMEZONE
TZID:UTC
BEGIN:STANDARD
TZOFFSETFROM:+0000
TZOFFSETTO:+0000
TZNAME:UTC
DTSTART:20220101T000000
END:STANDARD
END:VTIMEZONE
BEGIN:VEVENT
DTSTART;TZID=UTC:20220122T080000
DTEND;TZID=UTC:20220122T170000
DTSTAMP:20260420T230819
CREATED:20211217T230254Z
LAST-MODIFIED:20211217T230254Z
UID:869-1642838400-1642870800@untzilla.txoko.app
SUMMARY:juanma bazkaria 25 lagun
DESCRIPTION:
URL:https://untzilla.txoko.app/event/juanma-bazkaria-25-lagun/
END:VEVENT
END:VCALENDAR