BEGIN:VCALENDAR
VERSION:2.0
PRODID:-//Untzilla App - ECPv6.0.4//NONSGML v1.0//EN
CALSCALE:GREGORIAN
METHOD:PUBLISH
X-WR-CALNAME:Untzilla App
X-ORIGINAL-URL:https://untzilla.txoko.app
X-WR-CALDESC:Eventos para Untzilla App
REFRESH-INTERVAL;VALUE=DURATION:PT1H
X-Robots-Tag:noindex
X-PUBLISHED-TTL:PT1H
BEGIN:VTIMEZONE
TZID:UTC
BEGIN:STANDARD
TZOFFSETFROM:+0000
TZOFFSETTO:+0000
TZNAME:UTC
DTSTART:20220101T000000
END:STANDARD
END:VTIMEZONE
BEGIN:VEVENT
DTSTART;TZID=UTC:20220116T100000
DTEND;TZID=UTC:20220116T203000
DTSTAMP:20260420T230820
CREATED:20220115T092819Z
LAST-MODIFIED:20220115T092819Z
UID:888-1642327200-1642365000@untzilla.txoko.app
SUMMARY:Marifran - bazkaria - 8 lagun
DESCRIPTION:Bazkaria – 8 lagun
URL:https://untzilla.txoko.app/event/marifran-bazkaria-8-lagun/
END:VEVENT
END:VCALENDAR