BEGIN:VCALENDAR
VERSION:2.0
PRODID:-//Untzilla App - ECPv6.0.4//NONSGML v1.0//EN
CALSCALE:GREGORIAN
METHOD:PUBLISH
X-ORIGINAL-URL:https://untzilla.txoko.app
X-WR-CALDESC:Eventos para Untzilla App
REFRESH-INTERVAL;VALUE=DURATION:PT1H
X-Robots-Tag:noindex
X-PUBLISHED-TTL:PT1H
BEGIN:VTIMEZONE
TZID:UTC
BEGIN:STANDARD
TZOFFSETFROM:+0000
TZOFFSETTO:+0000
TZNAME:UTC
DTSTART:20210101T000000
END:STANDARD
END:VTIMEZONE
BEGIN:VEVENT
DTSTART;TZID=UTC:20211113T080000
DTEND;TZID=UTC:20211113T080000
DTSTAMP:20260421T021634
CREATED:20211110T123206Z
LAST-MODIFIED:20211110T123206Z
UID:803-1636790400-1636790400@untzilla.txoko.app
SUMMARY:Juanma afaria 20 pertsona
DESCRIPTION:
URL:https://untzilla.txoko.app/event/juanma-afaria-20-pertsona/
END:VEVENT
BEGIN:VEVENT
DTSTART;TZID=UTC:20211113T110000
DTEND;TZID=UTC:20211113T223000
DTSTAMP:20260421T021634
CREATED:20211018T095548Z
LAST-MODIFIED:20211018T095548Z
UID:774-1636801200-1636842600@untzilla.txoko.app
SUMMARY:Juanma Baños -comida 20 pers
DESCRIPTION:Juanma Baños \n13 de noviembre \ncomida – 20 personas \nerretegia BAI
URL:https://untzilla.txoko.app/event/juanma-banos-comida-20-pers/
END:VEVENT
END:VCALENDAR