BEGIN:VCALENDAR
VERSION:2.0
PRODID:-//Untzilla App - ECPv6.0.4//NONSGML v1.0//EN
CALSCALE:GREGORIAN
METHOD:PUBLISH
X-WR-CALNAME:Untzilla App
X-ORIGINAL-URL:https://untzilla.txoko.app
X-WR-CALDESC:Eventos para Untzilla App
REFRESH-INTERVAL;VALUE=DURATION:PT1H
X-Robots-Tag:noindex
X-PUBLISHED-TTL:PT1H
BEGIN:VTIMEZONE
TZID:UTC
BEGIN:STANDARD
TZOFFSETFROM:+0000
TZOFFSETTO:+0000
TZNAME:UTC
DTSTART:20210101T000000
END:STANDARD
END:VTIMEZONE
BEGIN:VEVENT
DTSTART;TZID=UTC:20211105T080000
DTEND;TZID=UTC:20211105T170000
DTSTAMP:20260421T021456
CREATED:20211102T174321Z
LAST-MODIFIED:20211102T174321Z
UID:790-1636099200-1636131600@untzilla.txoko.app
SUMMARY:Txirri comida el día 5 con 7 personas.
DESCRIPTION:
URL:https://untzilla.txoko.app/event/txirri-comida-el-dia-5-con-7-personas/
END:VEVENT
BEGIN:VEVENT
DTSTART;TZID=UTC:20211105T080000
DTEND;TZID=UTC:20211105T200000
DTSTAMP:20260421T021456
CREATED:20211026T180622Z
LAST-MODIFIED:20211026T180622Z
UID:780-1636099200-1636142400@untzilla.txoko.app
SUMMARY:Manda bazkaria 6 pertsona
DESCRIPTION:
URL:https://untzilla.txoko.app/event/manda-bazkaria-6-pertsona/
END:VEVENT
END:VCALENDAR