BEGIN:VCALENDAR
VERSION:2.0
PRODID:-//Untzilla App - ECPv6.0.4//NONSGML v1.0//EN
CALSCALE:GREGORIAN
METHOD:PUBLISH
X-ORIGINAL-URL:https://untzilla.txoko.app
X-WR-CALDESC:Eventos para Untzilla App
REFRESH-INTERVAL;VALUE=DURATION:PT1H
X-Robots-Tag:noindex
X-PUBLISHED-TTL:PT1H
BEGIN:VTIMEZONE
TZID:UTC
BEGIN:STANDARD
TZOFFSETFROM:+0000
TZOFFSETTO:+0000
TZNAME:UTC
DTSTART:20210101T000000
END:STANDARD
END:VTIMEZONE
BEGIN:VEVENT
DTSTART;TZID=UTC:20211024T080000
DTEND;TZID=UTC:20211024T170000
DTSTAMP:20260421T034146
CREATED:20211017T155108Z
LAST-MODIFIED:20211017T155108Z
UID:772-1635062400-1635094800@untzilla.txoko.app
SUMMARY:Txirri comida 10 personas
DESCRIPTION:
URL:https://untzilla.txoko.app/event/txirri-comida-10-personas/
END:VEVENT
END:VCALENDAR