BEGIN:VCALENDAR
VERSION:2.0
PRODID:-//Untzilla App - ECPv6.0.4//NONSGML v1.0//EN
CALSCALE:GREGORIAN
METHOD:PUBLISH
X-WR-CALNAME:Untzilla App
X-ORIGINAL-URL:https://untzilla.txoko.app
X-WR-CALDESC:Eventos para Untzilla App
REFRESH-INTERVAL;VALUE=DURATION:PT1H
X-Robots-Tag:noindex
X-PUBLISHED-TTL:PT1H
BEGIN:VTIMEZONE
TZID:UTC
BEGIN:STANDARD
TZOFFSETFROM:+0000
TZOFFSETTO:+0000
TZNAME:UTC
DTSTART:20210101T000000
END:STANDARD
END:VTIMEZONE
BEGIN:VEVENT
DTSTART;TZID=UTC:20210830T190000
DTEND;TZID=UTC:20210831T030000
DTSTAMP:20260421T052312
CREATED:20210822T135030Z
LAST-MODIFIED:20210822T135030Z
UID:648-1630350000-1630378800@untzilla.txoko.app
SUMMARY:Jesus Fdez
DESCRIPTION:Afarixe\, 10 lagun
URL:https://untzilla.txoko.app/event/jesus-fdez-6/
END:VEVENT
END:VCALENDAR