BEGIN:VCALENDAR
VERSION:2.0
PRODID:-//Untzilla App - ECPv6.0.4//NONSGML v1.0//EN
CALSCALE:GREGORIAN
METHOD:PUBLISH
X-WR-CALNAME:Untzilla App
X-ORIGINAL-URL:https://untzilla.txoko.app
X-WR-CALDESC:Eventos para Untzilla App
REFRESH-INTERVAL;VALUE=DURATION:PT1H
X-Robots-Tag:noindex
X-PUBLISHED-TTL:PT1H
BEGIN:VTIMEZONE
TZID:UTC
BEGIN:STANDARD
TZOFFSETFROM:+0000
TZOFFSETTO:+0000
TZNAME:UTC
DTSTART:20200101T000000
END:STANDARD
END:VTIMEZONE
BEGIN:VEVENT
DTSTART;TZID=UTC:20201025T080000
DTEND;TZID=UTC:20201025T170000
DTSTAMP:20260421T225903
CREATED:20201004T092027Z
LAST-MODIFIED:20201004T092027Z
UID:485-1603612800-1603645200@untzilla.txoko.app
SUMMARY:Bazkaria Henry - Txarly
DESCRIPTION:Txoko osoa
URL:https://untzilla.txoko.app/event/bazkaria-henry-txarly/
END:VEVENT
END:VCALENDAR