BEGIN:VCALENDAR
VERSION:2.0
PRODID:-//Untzilla App - ECPv6.0.4//NONSGML v1.0//EN
CALSCALE:GREGORIAN
METHOD:PUBLISH
X-WR-CALNAME:Untzilla App
X-ORIGINAL-URL:https://untzilla.txoko.app
X-WR-CALDESC:Eventos para Untzilla App
REFRESH-INTERVAL;VALUE=DURATION:PT1H
X-Robots-Tag:noindex
X-PUBLISHED-TTL:PT1H
BEGIN:VTIMEZONE
TZID:UTC
BEGIN:STANDARD
TZOFFSETFROM:+0000
TZOFFSETTO:+0000
TZNAME:UTC
DTSTART:20200101T000000
END:STANDARD
END:VTIMEZONE
BEGIN:VEVENT
DTSTART;TZID=UTC:20200730T120000
DTEND;TZID=UTC:20200730T200000
DTSTAMP:20260422T015249
CREATED:20200727T094640Z
LAST-MODIFIED:20200727T094640Z
UID:316-1596110400-1596139200@untzilla.txoko.app
SUMMARY:Manda
DESCRIPTION:Bazkaria 6 lagun + erretegia
URL:https://untzilla.txoko.app/event/manda-2/
END:VEVENT
END:VCALENDAR