BEGIN:VCALENDAR
VERSION:2.0
PRODID:-//Untzilla App - ECPv6.0.4//NONSGML v1.0//EN
CALSCALE:GREGORIAN
METHOD:PUBLISH
X-WR-CALNAME:Untzilla App
X-ORIGINAL-URL:https://untzilla.txoko.app
X-WR-CALDESC:Eventos para Untzilla App
REFRESH-INTERVAL;VALUE=DURATION:PT1H
X-Robots-Tag:noindex
X-PUBLISHED-TTL:PT1H
BEGIN:VTIMEZONE
TZID:UTC
BEGIN:STANDARD
TZOFFSETFROM:+0000
TZOFFSETTO:+0000
TZNAME:UTC
DTSTART:20200101T000000
END:STANDARD
END:VTIMEZONE
BEGIN:VEVENT
DTSTART;TZID=UTC:20200702T200000
DTEND;TZID=UTC:20200702T223000
DTSTAMP:20260422T033310
CREATED:20200702T120241Z
LAST-MODIFIED:20200702T120241Z
UID:249-1593720000-1593729000@untzilla.txoko.app
SUMMARY:Txirri  afaria 4
DESCRIPTION:
URL:https://untzilla.txoko.app/event/txirri-afaria-4/
END:VEVENT
END:VCALENDAR