BEGIN:VCALENDAR
VERSION:2.0
PRODID:-//Untzilla App - ECPv6.0.4//NONSGML v1.0//EN
CALSCALE:GREGORIAN
METHOD:PUBLISH
X-WR-CALNAME:Untzilla App
X-ORIGINAL-URL:https://untzilla.txoko.app
X-WR-CALDESC:Eventos para Untzilla App
REFRESH-INTERVAL;VALUE=DURATION:PT1H
X-Robots-Tag:noindex
X-PUBLISHED-TTL:PT1H
BEGIN:VTIMEZONE
TZID:UTC
BEGIN:STANDARD
TZOFFSETFROM:+0000
TZOFFSETTO:+0000
TZNAME:UTC
DTSTART:20200101T000000
END:STANDARD
END:VTIMEZONE
BEGIN:VEVENT
DTSTART;TZID=UTC:20200529T130000
DTEND;TZID=UTC:20200529T180000
DTSTAMP:20260422T063701
CREATED:20200528T172638Z
LAST-MODIFIED:20200528T172638Z
UID:127-1590757200-1590775200@untzilla.txoko.app
SUMMARY:Cengo
DESCRIPTION:Bazkaria \n8 lagun \nMahai bat \nAsadorra \n 
URL:https://untzilla.txoko.app/event/cengo/
END:VEVENT
BEGIN:VEVENT
DTSTART;TZID=UTC:20200529T193000
DTEND;TZID=UTC:20200529T230000
DTSTAMP:20260422T063701
CREATED:20200528T210804Z
LAST-MODIFIED:20200528T210804Z
UID:132-1590780600-1590793200@untzilla.txoko.app
SUMMARY:Ibon lasuen
DESCRIPTION:Afaixe \n15 lagun \nbrasan ein biogu eta ahal bada kanpuen afalduku
URL:https://untzilla.txoko.app/event/ibon-lasuen/
END:VEVENT
END:VCALENDAR